Workbook

Sheet СБП всего
A1: Дополнительное финансовое обеспечение видов и условий оказания медицинской помощи, не установленных базовой программой ОМС на 2026 год.
A3: № п/п | B3: Реестро-вый номер | C3: Наименование медицинской организации | D3: Дополнительное финансовое обеспечение видов и условий оказания медицинской помощи, не установленных базовой программой ОМС
D4: Всего | E4: Долечивание работающих граждан непосредствен-но после стационарного лечения в санаторно-курортных организациях РБ | F4: Лечебные мероприятия "Кибер-нож" | G4: Медицинская помощь по профилю "Венерология" | H4: Медицинская помощь по профилю "Паллиативная медицинская помощь" | I4: Медицинская помощь по профилю "Психотерапия" | J4: Медицинская помощь по профилю "Наркология" | K4: Медицинская помощь по профилю "Фтизиатрия" | L4: Лекарственная терапия у пациентов с ХПН
A6: ВСЕГО | D6: =SUM(D7:D8) -> 6.0584726e+09 | E6: =SUM(E7:E8) -> 85579148 | F6: =SUM(F7:F8) -> 75380566 | G6: =SUM(G7:G8) -> 2.239066e+08 | H6: =SUM(H7:H8) -> 1.0772284e+09 | I6: =SUM(I7:I8) -> 5.990129e+08 | J6: =SUM(J7:J8) -> 1.1976918e+09 | K6: =SUM(K7:K8) -> 2.6934021e+09 | L6: =SUM(L7:L8) -> 106271118
A7: Медицинская помощь за пределами РБ | D7: =SUM(E7:L7)+1.43 -> 5250829.7 | E7: =Долечивание!I7 -> 168.58 | F7: ='Кибер-нож'!K7 -> 3.05 | G7: =Венерология!I7 -> 463.87 | H7: ='Паллиативная МП'!J7 -> 1325.97 | I7: =Психотерапия!Q7 -> 3234.84 | J7: =Наркология!R7 -> 5239535.2 | K7: =Фтизиатрия!K7 -> 6096.82 | L7: =Лекарст.обеспечение!D7 -> 0
A8: Итого по МО | D8: =SUM(D9:D146)-D89 -> 6.0532217e+09 | E8: =SUM(E9:E146)-E89 -> 85578979 | F8: =SUM(F9:F146)-F89 -> 75380563 | G8: =SUM(G9:G146)-G89 -> 2.2390614e+08 | H8: =SUM(H9:H146)-H89 -> 1.077227e+09 | I8: =SUM(I9:I146)-I89 -> 5.9900967e+08 | J8: =SUM(J9:J146)-J89 -> 1.1924523e+09 | K8: =SUM(K9:K146)-K89 -> 2.693396e+09 | L8: =SUM(L9:L146)-L89 -> 106271118
A9: 1 | B9: 025004 | C9: ГБУЗ РБ Аскинская ЦРБ | D9: =SUM(E9:L9) -> 15097104 | E9: =Долечивание!I9 -> 0 | F9: ='Кибер-нож'!K9 -> 0 | G9: =Венерология!I9 -> 913063.8 | H9: ='Паллиативная МП'!J9 -> 10069092 | I9: =Психотерапия!Q9 -> 0 | J9: =Наркология!R9 -> 1715144.1 | K9: =Фтизиатрия!K9 -> 2399804.5 | L9: =Лекарст.обеспечение!D9 -> 0
A10: 2 | B10: 022103 | C10: ГБУЗ РБ Балтачевская ЦРБ | D10: =SUM(E10:L10) -> 19146117 | E10: =Долечивание!I10 -> 0 | F10: ='Кибер-нож'!K10 -> 0 | G10: =Венерология!I10 -> 1346040 | H10: ='Паллиативная МП'!J10 -> 11436485 | I10: =Психотерапия!Q10 -> 0 | J10: =Наркология!R10 -> 1762667.8 | K10: =Фтизиатрия!K10 -> 4600924.1 | L10: =Лекарст.обеспечение!D10 -> 0
A11: 3 | B11: 025001 | C11: ГБУЗ РБ Бирская ЦРБ | D11: =SUM(E11:L11) -> 47473749 | E11: =Долечивание!I11 -> 0 | F11: ='Кибер-нож'!K11 -> 0 | G11: =Венерология!I11 -> 2645529.5 | H11: ='Паллиативная МП'!J11 -> 16203138 | I11: =Психотерапия!Q11 -> 5077986.4 | J11: =Наркология!R11 -> 23547095 | K11: =Фтизиатрия!K11 -> 0 | L11: =Лекарст.обеспечение!D11 -> 0
A12: 4 | B12: 025005 | C12: ГБУЗ РБ Бураевская ЦРБ | D12: =SUM(E12:L12) -> 15716371 | E12: =Долечивание!I12 -> 0 | F12: ='Кибер-нож'!K12 -> 0 | G12: =Венерология!I12 -> 1065615 | H12: ='Паллиативная МП'!J12 -> 10541287 | I12: =Психотерапия!Q12 -> 0 | J12: =Наркология!R12 -> 2214886 | K12: =Фтизиатрия!K12 -> 1894582.5 | L12: =Лекарст.обеспечение!D12 -> 0
A13: 5 | B13: 022102 | C13: ГБУЗ РБ Верхне-Татышлинская ЦРБ | D13: =SUM(E13:L13) -> 15722300 | E13: =Долечивание!I13 -> 0 | F13: ='Кибер-нож'!K13 -> 0 | G13: =Венерология!I13 -> 858100.5 | H13: ='Паллиативная МП'!J13 -> 10069092 | I13: =Психотерапия!Q13 -> 0 | J13: =Наркология!R13 -> 2268997.7 | K13: =Фтизиатрия!K13 -> 2526110 | L13: =Лекарст.обеспечение!D13 -> 0
A14: 6 | B14: 021201 | C14: ГБУЗ РБ ГБ г.Нефтекамск | D14: =SUM(E14:L14) -> 88907439 | E14: =Долечивание!I14 -> 0 | F14: ='Кибер-нож'!K14 -> 0 | G14: =Венерология!I14 -> 11370888 | H14: ='Паллиативная МП'!J14 -> 27272569 | I14: =Психотерапия!Q14 -> 0 | J14: =Наркология!R14 -> 49000927 | K14: =Фтизиатрия!K14 -> 1263055 | L14: =Лекарст.обеспечение!D14 -> 0
A15: 7 | B15: 027001 | C15: ГБУЗ РБ Дюртюлинская ЦРБ | D15: =SUM(E15:L15) -> 24282995 | E15: =Долечивание!I15 -> 0 | F15: ='Кибер-нож'!K15 -> 0 | G15: =Венерология!I15 -> 2523825 | H15: ='Паллиативная МП'!J15 -> 13205197 | I15: =Психотерапия!Q15 -> 0 | J15: =Наркология!R15 -> 3816426.5 | K15: =Фтизиатрия!K15 -> 4737546.5 | L15: =Лекарст.обеспечение!D15 -> 0
A16: 8 | B16: 021206 | C16: ГБУЗ РБ Калтасинская ЦРБ | D16: =SUM(E16:L16) -> 15815010 | E16: =Долечивание!I16 -> 0 | F16: ='Кибер-нож'!K16 -> 0 | G16: =Венерология!I16 -> 1080197.1 | H16: ='Паллиативная МП'!J16 -> 10069092 | I16: =Психотерапия!Q16 -> 0 | J16: =Наркология!R16 -> 1824937.4 | K16: =Фтизиатрия!K16 -> 2840783.5 | L16: =Лекарст.обеспечение!D16 -> 0
A17: 9 | B17: 025003 | C17: ГБУЗ РБ Караидельская ЦРБ | D17: =SUM(E17:L17) -> 18771775 | E17: =Долечивание!I17 -> 0 | F17: ='Кибер-нож'!K17 -> 0 | G17: =Венерология!I17 -> 1328653.6 | H17: ='Паллиативная МП'!J17 -> 5787961 | I17: =Психотерапия!Q17 -> 0 | J17: =Наркология!R17 -> 8497523.1 | K17: =Фтизиатрия!K17 -> 3157637.5 | L17: =Лекарст.обеспечение!D17 -> 0
A18: 10 | B18: 021205 | C18: ГБУЗ РБ Краснокамская ЦРБ | D18: =SUM(E18:L18) -> 30089067 | E18: =Долечивание!I18 -> 0 | F18: ='Кибер-нож'!K18 -> 0 | G18: =Венерология!I18 -> 1314632.4 | H18: ='Паллиативная МП'!J18 -> 10069092 | I18: =Психотерапия!Q18 -> 16493906 | J18: =Наркология!R18 -> 0 | K18: =Фтизиатрия!K18 -> 2211436.5 | L18: =Лекарст.обеспечение!D18 -> 0
A19: 11 | B19: 025002 | C19: ГБУЗ РБ Мишкинская ЦРБ | D19: =SUM(E19:L19) -> 16027883 | E19: =Долечивание!I19 -> 0 | F19: ='Кибер-нож'!K19 -> 0 | G19: =Венерология!I19 -> 939423.75 | H19: ='Паллиативная МП'!J19 -> 10069092 | I19: =Психотерапия!Q19 -> 0 | J19: =Наркология!R19 -> 2142739.9 | K19: =Фтизиатрия!K19 -> 2876627.6 | L19: =Лекарст.обеспечение!D19 -> 0
A20: 12 | B20: 022104 | C20: ГБУЗ РБ Янаульская ЦРБ | D20: =SUM(E20:L20) -> 21929357 | E20: =Долечивание!I20 -> 0 | F20: ='Кибер-нож'!K20 -> 0 | G20: =Венерология!I20 -> 1785185.6 | H20: ='Паллиативная МП'!J20 -> 10998250 | I20: =Психотерапия!Q20 -> 0 | J20: =Наркология!R20 -> 3650541.9 | K20: =Фтизиатрия!K20 -> 5495379.5 | L20: =Лекарст.обеспечение!D20 -> 0
... A89: 78 | B89: 022800 | C89: ФГБОУ ВО БГМУ Минздрава России всего, в том числе: | D89: =SUM(E89:L89) -> 0 | E89: =Долечивание!I89 -> 0 | F89: ='Кибер-нож'!K89 -> 0 | G89: =Венерология!I89 -> 0 | H89: ='Паллиативная МП'!J89 -> 0 | I89: =Психотерапия!Q89 -> 0 | J89: =Наркология!R89 -> 0 | K89: =Фтизиатрия!K89 -> 0 | L89: =Лекарст.обеспечение!D89 -> 0
C90: ФГБОУ ВО БГМУ Минздрава России (без стоматологии, офтальмологии для отдельных структурных подразделений) | D90: =SUM(E90:L90) -> 0 | E90: =Долечивание!I90 -> 0 | F90: ='Кибер-нож'!K90 -> 0 | G90: =Венерология!I90 -> 0 | H90: ='Паллиативная МП'!J90 -> 0 | I90: =Психотерапия!Q90 -> 0 | J90: =Наркология!R90 -> 0 | K90: =Фтизиатрия!K90 -> 0 | L90: =Лекарст.обеспечение!D90 -> 0
C91: ФГБОУ ВО БГМУ Минздрава России (стоматология) | D91: =SUM(E91:L91) -> 0 | E91: =Долечивание!I91 -> 0 | F91: ='Кибер-нож'!K91 -> 0 | G91: =Венерология!I91 -> 0 | H91: ='Паллиативная МП'!J91 -> 0 | I91: =Психотерапия!Q91 -> 0 | J91: =Наркология!R91 -> 0 | K91: =Фтизиатрия!K91 -> 0 | L91: =Лекарст.обеспечение!D91 -> 0
C92: ФГБОУ ВО БГМУ Минздрава России (офтальмология для отдельных структурных подразделений) | D92: =SUM(E92:L92) -> 0 | E92: =Долечивание!I92 -> 0 | F92: ='Кибер-нож'!K92 -> 0 | G92: =Венерология!I92 -> 0 | H92: ='Паллиативная МП'!J92 -> 0 | I92: =Психотерапия!Q92 -> 0 | J92: =Наркология!R92 -> 0 | K92: =Фтизиатрия!K92 -> 0 | L92: =Лекарст.обеспечение!D92 -> 0
A93: 79 | B93: 025000 | C93: ФКУЗ "МСЧ МВД России по Республике Башкортостан" | D93: =SUM(E93:L93) -> 0 | E93: =Долечивание!I93 -> 0 | F93: ='Кибер-нож'!K93 -> 0 | G93: =Венерология!I93 -> 0 | H93: ='Паллиативная МП'!J93 -> 0 | I93: =Психотерапия!Q93 -> 0 | J93: =Наркология!R93 -> 0 | K93: =Фтизиатрия!K93 -> 0 | L93: =Лекарст.обеспечение!D93 -> 0
A94: 80 | B94: 020171 | C94: УФИЦ РАН | D94: =SUM(E94:L94) -> 0 | E94: =Долечивание!I94 -> 0 | F94: ='Кибер-нож'!K94 -> 0 | G94: =Венерология!I94 -> 0 | H94: ='Паллиативная МП'!J94 -> 0 | I94: =Психотерапия!Q94 -> 0 | J94: =Наркология!R94 -> 0 | K94: =Фтизиатрия!K94 -> 0 | L94: =Лекарст.обеспечение!D94 -> 0
A95: 81 | B95: 022117 | C95: ЧУЗ "КБ "РЖД-Медицина"г.Уфа | D95: =SUM(E95:L95) -> 0 | E95: =Долечивание!I95 -> 0 | F95: ='Кибер-нож'!K95 -> 0 | G95: =Венерология!I95 -> 0 | H95: ='Паллиативная МП'!J95 -> 0 | I95: =Психотерапия!Q95 -> 0 | J95: =Наркология!R95 -> 0 | K95: =Фтизиатрия!K95 -> 0 | L95: =Лекарст.обеспечение!D95 -> 0
A96: 82 | B96: 022204 | C96: ГБУЗ РБ Архангельская ЦРБ | D96: =SUM(E96:L96) -> 26655685 | E96: =Долечивание!I96 -> 0 | F96: ='Кибер-нож'!K96 -> 0 | G96: =Венерология!I96 -> 927085.05 | H96: ='Паллиативная МП'!J96 -> 10069092 | I96: =Психотерапия!Q96 -> 11662632 | J96: =Наркология!R96 -> 1911744.9 | K96: =Фтизиатрия!K96 -> 2085131 | L96: =Лекарст.обеспечение!D96 -> 0
A97: 83 | B97: 026005 | C97: ГБУЗ РБ Белокатайская ЦРБ | D97: =SUM(E97:L97) -> 16429949 | E97: =Долечивание!I97 -> 0 | F97: ='Кибер-нож'!K97 -> 0 | G97: =Венерология!I97 -> 1194610.5 | H97: ='Паллиативная МП'!J97 -> 10069092 | I97: =Психотерапия!Q97 -> 920208.98 | J97: =Наркология!R97 -> 1405254.4 | K97: =Фтизиатрия!K97 -> 2840783.5 | L97: =Лекарст.обеспечение!D97 -> 0
A98: 84 | B98: 022202 | C98: ГБУЗ РБ Благовещенская ЦРБ | D98: =SUM(E98:L98) -> 24284419 | E98: =Долечивание!I98 -> 0 | F98: ='Кибер-нож'!K98 -> 0 | G98: =Венерология!I98 -> 2081314.4 | H98: ='Паллиативная МП'!J98 -> 11730588 | I98: =Психотерапия!Q98 -> 0 | J98: =Наркология!R98 -> 5041380.2 | K98: =Фтизиатрия!K98 -> 5431136.5 | L98: =Лекарст.обеспечение!D98 -> 0
A99: 85 | B99: 026002 | C99: ГБУЗ РБ Большеустьикинская ЦРБ | D99: =SUM(E99:L99) -> 11736058 | E99: =Долечивание!I99 -> 0 | F99: ='Кибер-нож'!K99 -> 0 | G99: =Венерология!I99 -> 922037.4 | H99: ='Паллиативная МП'!J99 -> 5841861.8 | I99: =Психотерапия!Q99 -> 0 | J99: =Наркология!R99 -> 2131375.5 | K99: =Фтизиатрия!K99 -> 2840783.5 | L99: =Лекарст.обеспечение!D99 -> 0
A100: 86 | B100: 022201 | C100: ГБУЗ РБ Иглинская ЦРБ | D100: =SUM(E100:L100) -> 25117866 | E100: =Долечивание!I100 -> 0 | F100: ='Кибер-нож'!K100 -> 0 | G100: =Венерология!I100 -> 2823879.8 | H100: ='Паллиативная МП'!J100 -> 12080349 | I100: =Психотерапия!Q100 -> 0 | J100: =Наркология!R100 -> 5040534.7 | K100: =Фтизиатрия!K100 -> 5173101.9 | L100: =Лекарст.обеспечение!D100 -> 0
A101: 88 | B101: 022205 | C101: ГБУЗ РБ Кармаскалинская ЦРБ | D101: =SUM(E101:L101) -> 23287437 | E101: =Долечивание!I101 -> 0 | F101: ='Кибер-нож'!K101 -> 0 | G101: =Венерология!I101 -> 2025229.4 | H101: ='Паллиативная МП'!J101 -> 13150705 | I101: =Психотерапия!Q101 -> 368073.58 | J101: =Наркология!R101 -> 4271118.6 | K101: =Фтизиатрия!K101 -> 3472311 | L101: =Лекарст.обеспечение!D101 -> 0
A102: 89 | B102: 026004 | C102: ГБУЗ РБ Кигинская ЦРБ | D102: =SUM(E102:L102) -> 34359527 | E102: =Долечивание!I102 -> 0 | F102: ='Кибер-нож'!K102 -> 0 | G102: =Венерология!I102 -> 925963.35 | H102: ='Паллиативная МП'!J102 -> 5034546 | I102: =Психотерапия!Q102 -> 17919585 | J102: =Наркология!R102 -> 8584849.4 | K102: =Фтизиатрия!K102 -> 1894582.5 | L102: =Лекарст.обеспечение!D102 -> 0
A103: 90 | B103: 022208 | C103: ГБУЗ РБ Кушнаренковская ЦРБ | D103: =SUM(E103:L103) -> 16715620 | E103: =Долечивание!I103 -> 0 | F103: ='Кибер-нож'!K103 -> 0 | G103: =Венерология!I103 -> 1251817.2 | H103: ='Паллиативная МП'!J103 -> 10609246 | I103: =Психотерапия!Q103 -> 0 | J103: =Наркология!R103 -> 2328447.5 | K103: =Фтизиатрия!K103 -> 2526110 | L103: =Лекарст.обеспечение!D103 -> 0
A104: 91 | B104: 026003 | C104: ГБУЗ РБ Малоязовская ЦРБ | D104: =SUM(E104:L104) -> 15942736 | E104: =Долечивание!I104 -> 0 | F104: ='Кибер-нож'!K104 -> 0 | G104: =Венерология!I104 -> 954566.7 | H104: ='Паллиативная МП'!J104 -> 10069092 | I104: =Психотерапия!Q104 -> 0 | J104: =Наркология!R104 -> 2392967.3 | K104: =Фтизиатрия!K104 -> 2526110 | L104: =Лекарст.обеспечение!D104 -> 0
... A146: 135 | B146: 020058 | C146: ООО "ДОКТОР ВЕН" | D146: =SUM(E146:L146) -> 0 | E146: =Долечивание!I146 -> 0 | F146: ='Кибер-нож'!K146 -> 0 | G146: =Венерология!I146 -> 0 | H146: ='Паллиативная МП'!J146 -> 0 | I146: =Психотерапия!Q146 -> 0 | J146: =Наркология!R146 -> 0 | K146: =Фтизиатрия!K146 -> 0 | L146: =Лекарст.обеспечение!D146 -> 0

Sheet Долечивание
A1: Плановые объемы финансового обеспечения по комплексу процессных мероприятий «Осуществление медицинской реабилитации и санаторно-курортного лечения, в том числе детей» на 2026 год.
A3: № п/п | B3: Реестро-вый номер | C3: Наименование медицинской организации | D3: в амбулаторных условиях | G3: в условиях круглосуточного стационара | H3: в условиях дневного стационара | I3: ИТОГО
D4: Посещения с профилактичес-кими и иными целями | E4: Обращения в связи с заболеваниями | F4: Всего
A6: ВСЕГО | D6: =SUM(D7:D8) -> 0 | E6: =SUM(E7:E8) -> 0 | F6: =SUM(F7:F8) -> 0 | G6: =SUM(G7:G8) -> 85579148 | H6: =SUM(H7:H8) -> 0 | I6: =SUM(I7:I8) -> 85579148
A7: Медицинская помощь за пределами РБ | G7: 168.58 | I7: 168.58
A8: Итого по МО | D8: =SUM(D9:D146)-D89 -> 0 | E8: =SUM(E9:E146)-E89 -> 0 | F8: =SUM(F9:F146)-F89 -> 0 | G8: =SUM(G9:G146)-G89 -> 85578979 | H8: =SUM(H9:H146)-H89 -> 0 | I8: =SUM(I9:I146)-I89 -> 85578979
A9: 1 | B9: 025004 | C9: ГБУЗ РБ Аскинская ЦРБ
A10: 2 | B10: 022103 | C10: ГБУЗ РБ Балтачевская ЦРБ
A11: 3 | B11: 025001 | C11: ГБУЗ РБ Бирская ЦРБ
A12: 4 | B12: 025005 | C12: ГБУЗ РБ Бураевская ЦРБ
A13: 5 | B13: 022102 | C13: ГБУЗ РБ Верхне-Татышлинская ЦРБ
A14: 6 | B14: 021201 | C14: ГБУЗ РБ ГБ г.Нефтекамск
A15: 7 | B15: 027001 | C15: ГБУЗ РБ Дюртюлинская ЦРБ
A16: 8 | B16: 021206 | C16: ГБУЗ РБ Калтасинская ЦРБ
A17: 9 | B17: 025003 | C17: ГБУЗ РБ Караидельская ЦРБ
A18: 10 | B18: 021205 | C18: ГБУЗ РБ Краснокамская ЦРБ
A19: 11 | B19: 025002 | C19: ГБУЗ РБ Мишкинская ЦРБ
A20: 12 | B20: 022104 | C20: ГБУЗ РБ Янаульская ЦРБ
... A89: 78 | B89: 022800 | C89: ФГБОУ ВО БГМУ Минздрава России всего, в том числе:
C90: ФГБОУ ВО БГМУ Минздрава России (без стоматологии, офтальмологии для отдельных структурных подразделений)
C91: ФГБОУ ВО БГМУ Минздрава России (стоматология)
C92: ФГБОУ ВО БГМУ Минздрава России (офтальмология для отдельных структурных подразделений)
A93: 79 | B93: 025000 | C93: ФКУЗ "МСЧ МВД России по Республике Башкортостан"
A94: 80 | B94: 020171 | C94: УФИЦ РАН
A95: 81 | B95: 022117 | C95: ЧУЗ "КБ "РЖД-Медицина"г.Уфа
A96: 82 | B96: 022204 | C96: ГБУЗ РБ Архангельская ЦРБ
A97: 83 | B97: 026005 | C97: ГБУЗ РБ Белокатайская ЦРБ
A98: 84 | B98: 022202 | C98: ГБУЗ РБ Благовещенская ЦРБ
A99: 85 | B99: 026002 | C99: ГБУЗ РБ Большеустьикинская ЦРБ
A100: 86 | B100: 022201 | C100: ГБУЗ РБ Иглинская ЦРБ
A101: 88 | B101: 022205 | C101: ГБУЗ РБ Кармаскалинская ЦРБ
A102: 89 | B102: 026004 | C102: ГБУЗ РБ Кигинская ЦРБ
A103: 90 | B103: 022208 | C103: ГБУЗ РБ Кушнаренковская ЦРБ
A104: 91 | B104: 026003 | C104: ГБУЗ РБ Малоязовская ЦРБ
... A120: 109 | B120: 020172 | C120: ООО "МЦ МЕГИ"
A121: 110 | B121: 020066 | C121: АО "Санаторий "Зеленая роща" | G121: 53797901 | I121: =F121+G121+H121 -> 53797901
A122: 111 | B122: 020083 | C122: АО санаторий "Юматово" | G122: 31781078 | I122: =F122+G122+H122 -> 31781078
A123: 112 | B123: 020170 | C123: ООО "Клиника Фомина Уфа"
A124: 113 | B124: 020161 | C124: ООО "Экома"
A125: 114 | B125: 020248 | C125: ООО "Клиника эстетической медицины "Юхелф"
A126: 115 | B126: 022120 | C126: ГБУЗ РКБ им. Г.Г.Куватова
A127: 116 | B127: 022100 | C127: ГАУЗ РКОД Минздрава РБ
A128: 117 | B128: 022130 | C128: ГБУЗ РКЦ
A129: 118 | B129: 022113 | C129: ГБУЗ РДКБ
A130: 119 | B130: 022112 | C130: ГБУЗ РКВД
A131: 120 | B131: 026000 | C131: ГБУЗ РКПЦ МЗ РБ
A132: 121 | B132: 022132 | C132: ГБУЗ РМГЦ
A133: 122 | B133: 022124 | C133: ГБУЗ РВФД
A134: 123 | B134: 022220 | C134: ГБУЗ РКГВВ им. М.В. Каменева
... A146: 135 | B146: 020058 | C146: ООО "ДОКТОР ВЕН"

Sheet Кибер-нож
A1: Плановые объемы финансового обеспечения по комплексу процессных мероприятий «Оказание медицинской помощи населению Республики Башкортостан (кибер-нож)» на 2026 год.
A3: № п/п | B3: Реестро-вый номер | C3: Наименование медицинской организации | D3: в амбулаторных условиях | G3: в условиях круглосуточ-ного стационара | H3: в условиях дневного стационара | I3: в том числе | K3: ИТОГО
D4: Посещения с профилактичес-кими и иными целями | E4: Обращения в связи с заболеваниями | F4: Всего
I5: операции с имплантацией референсных маркеров | J5: операции без имплантации референсных маркеров
A6: ВСЕГО | D6: =SUM(D7:D8) -> 0 | E6: =SUM(E7:E8) -> 0 | F6: =SUM(F7:F8) -> 0 | G6: =SUM(G7:G8) -> 0 | H6: =SUM(H7:H8) -> 75380566 | I6: =SUM(I7:I8) -> 16640591 | J6: =SUM(J7:J8) -> 58739971 | K6: =SUM(K7:K8) -> 75380566
A7: Медицинская помощь за пределами РБ | H7: 3.05 | K7: 3.05
A8: Итого по МО | D8: =SUM(D9:D146)-D89 -> 0 | E8: =SUM(E9:E146)-E89 -> 0 | F8: =SUM(F9:F146)-F89 -> 0 | G8: =SUM(G9:G146)-G89 -> 0 | H8: =SUM(H9:H146)-H89 -> 75380563 | I8: =SUM(I9:I146)-I89 -> 16640591 | J8: =SUM(J9:J146)-J89 -> 58739971 | K8: =SUM(K9:K146)-K89 -> 75380563
A9: 1 | B9: 025004 | C9: ГБУЗ РБ Аскинская ЦРБ
A10: 2 | B10: 022103 | C10: ГБУЗ РБ Балтачевская ЦРБ
A11: 3 | B11: 025001 | C11: ГБУЗ РБ Бирская ЦРБ
A12: 4 | B12: 025005 | C12: ГБУЗ РБ Бураевская ЦРБ
A13: 5 | B13: 022102 | C13: ГБУЗ РБ Верхне-Татышлинская ЦРБ
A14: 6 | B14: 021201 | C14: ГБУЗ РБ ГБ г.Нефтекамск
A15: 7 | B15: 027001 | C15: ГБУЗ РБ Дюртюлинская ЦРБ
A16: 8 | B16: 021206 | C16: ГБУЗ РБ Калтасинская ЦРБ
A17: 9 | B17: 025003 | C17: ГБУЗ РБ Караидельская ЦРБ
A18: 10 | B18: 021205 | C18: ГБУЗ РБ Краснокамская ЦРБ
A19: 11 | B19: 025002 | C19: ГБУЗ РБ Мишкинская ЦРБ
A20: 12 | B20: 022104 | C20: ГБУЗ РБ Янаульская ЦРБ
... A89: 78 | B89: 022800 | C89: ФГБОУ ВО БГМУ Минздрава России всего, в том числе:
C90: ФГБОУ ВО БГМУ Минздрава России (без стоматологии, офтальмологии для отдельных структурных подразделений)
C91: ФГБОУ ВО БГМУ Минздрава России (стоматология)
C92: ФГБОУ ВО БГМУ Минздрава России (офтальмология для отдельных структурных подразделений)
A93: 79 | B93: 025000 | C93: ФКУЗ "МСЧ МВД России по Республике Башкортостан"
A94: 80 | B94: 020171 | C94: УФИЦ РАН
A95: 81 | B95: 022117 | C95: ЧУЗ "КБ "РЖД-Медицина"г.Уфа
A96: 82 | B96: 022204 | C96: ГБУЗ РБ Архангельская ЦРБ
A97: 83 | B97: 026005 | C97: ГБУЗ РБ Белокатайская ЦРБ
A98: 84 | B98: 022202 | C98: ГБУЗ РБ Благовещенская ЦРБ
A99: 85 | B99: 026002 | C99: ГБУЗ РБ Большеустьикинская ЦРБ
A100: 86 | B100: 022201 | C100: ГБУЗ РБ Иглинская ЦРБ
A101: 88 | B101: 022205 | C101: ГБУЗ РБ Кармаскалинская ЦРБ
A102: 89 | B102: 026004 | C102: ГБУЗ РБ Кигинская ЦРБ
A103: 90 | B103: 022208 | C103: ГБУЗ РБ Кушнаренковская ЦРБ
A104: 91 | B104: 026003 | C104: ГБУЗ РБ Малоязовская ЦРБ
... A138: 127 | B138: 022121 | C138: АУЗ РСП
A139: 128 | B139: 022134 | C139: ООО "Центр ПЭТ-Технолоджи" | H139: =SUM(I139:J139) -> 75380563 | I139: 16640591 | J139: 58739971 | K139: =F139+G139+H139 -> 75380563
A140: 129 | B140: 020005 | C140: ГБУЗ РКНД Минздрава РБ
A141: 130 | B141: 020006 | C141: ГБУЗ РКПЦ Минздрава РБ
A142: 131 | B142: 020007 | C142: ГБУЗ РКФПЦ
A143: 132 | B143: 020164 | C143: ГАУЗ РПНС Акбузат
A144: 133 | B144: 020051 | C144: АНМО "Уфимский хоспис"
A145: 134 | B145: 020052 | C145: ГБУЗ РЦПБ СО СПИДОМ И ИЗ
A146: 135 | B146: 020058 | C146: ООО "ДОКТОР ВЕН"

Sheet Венерология
A1: Плановые объемы финансового обеспечения по комплексу процессных мероприятий «Организация медицинской помощи по профилю «Венерология»» на 2026 год.
A3: № п/п | B3: Реестро-вый номер | C3: Наименование медицинской организации | D3: в амбулаторных условиях | G3: в условиях круглосуточ-ного стационара | H3: в условиях дневного стационара | I3: ИТОГО
D4: Посещения с профилактичес-кими и иными целями | E4: Обращения в связи с заболеваниями | F4: Всего
A6: ВСЕГО | D6: =SUM(D7:D8) -> 1.6900347e+08 | E6: =SUM(E7:E8) -> 20362151 | F6: =SUM(F7:F8) -> 1.8936562e+08 | G6: =SUM(G7:G8) -> 22421937 | H6: =SUM(H7:H8) -> 12119046 | I6: =SUM(I7:I8) -> 2.239066e+08
A7: Медицинская помощь за пределами РБ | D7: 295.27 | E7: 81.9 | F7: =D7+E7 -> 377.17 | G7: 56.41 | H7: 30.29 | I7: =F7+G7+H7 -> 463.87
A8: Итого по МО | D8: =SUM(D9:D146)-D89 -> 1.6900317e+08 | E8: =SUM(E9:E146)-E89 -> 20362069 | F8: =SUM(F9:F146)-F89 -> 1.8936524e+08 | G8: =SUM(G9:G146)-G89 -> 22421880 | H8: =SUM(H9:H146)-H89 -> 12119016 | I8: =SUM(I9:I146)-I89 -> 2.2390614e+08
A9: 1 | B9: 025004 | C9: ГБУЗ РБ Аскинская ЦРБ | D9: 913063.8 | F9: =SUM(D9:E9) -> 913063.8 | I9: =F9+G9+H9 -> 913063.8
A10: 2 | B10: 022103 | C10: ГБУЗ РБ Балтачевская ЦРБ | D10: 1346040 | F10: =SUM(D10:E10) -> 1346040 | I10: =F10+G10+H10 -> 1346040
A11: 3 | B11: 025001 | C11: ГБУЗ РБ Бирская ЦРБ | D11: 2645529.5 | F11: =SUM(D11:E11) -> 2645529.5 | I11: =F11+G11+H11 -> 2645529.5
A12: 4 | B12: 025005 | C12: ГБУЗ РБ Бураевская ЦРБ | D12: 1065615 | F12: =SUM(D12:E12) -> 1065615 | I12: =F12+G12+H12 -> 1065615
A13: 5 | B13: 022102 | C13: ГБУЗ РБ Верхне-Татышлинская ЦРБ | D13: 858100.5 | F13: =SUM(D13:E13) -> 858100.5 | I13: =F13+G13+H13 -> 858100.5
A14: 6 | B14: 021201 | C14: ГБУЗ РБ ГБ г.Нефтекамск | D14: 6144672.6 | E14: 176625.36 | F14: =SUM(D14:E14) -> 6321298 | H14: 5049590 | I14: =F14+G14+H14 -> 11370888
A15: 7 | B15: 027001 | C15: ГБУЗ РБ Дюртюлинская ЦРБ | D15: 2523825 | F15: =SUM(D15:E15) -> 2523825 | I15: =F15+G15+H15 -> 2523825
A16: 8 | B16: 021206 | C16: ГБУЗ РБ Калтасинская ЦРБ | D16: 1080197.1 | F16: =SUM(D16:E16) -> 1080197.1 | I16: =F16+G16+H16 -> 1080197.1
A17: 9 | B17: 025003 | C17: ГБУЗ РБ Караидельская ЦРБ | D17: 1328653.6 | F17: =SUM(D17:E17) -> 1328653.6 | I17: =F17+G17+H17 -> 1328653.6
A18: 10 | B18: 021205 | C18: ГБУЗ РБ Краснокамская ЦРБ | D18: 1314632.4 | F18: =SUM(D18:E18) -> 1314632.4 | I18: =F18+G18+H18 -> 1314632.4
A19: 11 | B19: 025002 | C19: ГБУЗ РБ Мишкинская ЦРБ | D19: 939423.75 | F19: =SUM(D19:E19) -> 939423.75 | I19: =F19+G19+H19 -> 939423.75
A20: 12 | B20: 022104 | C20: ГБУЗ РБ Янаульская ЦРБ | D20: 1785185.6 | F20: =SUM(D20:E20) -> 1785185.6 | I20: =F20+G20+H20 -> 1785185.6
A21: 13 | B21: 020163 | C21: ООО "АВИЦЕННА" г.Нефтекамск | F21: =SUM(D21:E21) -> 0 | I21: =F21+G21+H21 -> 0
A22: 14 | B22: 021501 | C22: ГБУЗ РБ Акъярская ЦРБ | D22: 1545141.8 | F22: =SUM(D22:E22) -> 1545141.8 | I22: =F22+G22+H22 -> 1545141.8
A23: 15 | B23: 024001 | C23: ГБУЗ РБ Аскаровская ЦРБ | D23: 2498586.8 | F23: =SUM(D23:E23) -> 2498586.8 | I23: =F23+G23+H23 -> 2498586.8
A24: 16 | B24: 022001 | C24: ГБУЗ РБ Баймакская ЦГБ | D24: 2156468.2 | F24: =SUM(D24:E24) -> 2156468.2 | I24: =F24+G24+H24 -> 2156468.2
A25: 17 | B25: 024005 | C25: ГБУЗ РБ Белорецкая ЦРКБ | D25: 5672436.9 | E25: 176625.36 | F25: =SUM(D25:E25) -> 5849062.3 | H25: 2019836 | I25: =F25+G25+H25 -> 7868898.3
A26: 18 | B26: 024002 | C26: ГБУЗ РБ Бурзянская ЦРБ | D26: 589453.35 | F26: =SUM(D26:E26) -> 589453.35 | I26: =F26+G26+H26 -> 589453.35
A27: 19 | B27: 022012 | C27: ГБУЗ РБ Зилаирская ЦРБ | D27: 1104874.5 | F27: =SUM(D27:E27) -> 1104874.5 | I27: =F27+G27+H27 -> 1104874.5
A28: 20 | B28: 021901 | C28: ГБУЗ РБ Учалинская ЦГБ | D28: 3894542.4 | F28: =SUM(D28:E28) -> 3894542.4 | H28: 504959 | I28: =F28+G28+H28 -> 4399501.4
A29: 21 | B29: 021502 | C29: ГБУЗ РБ ЦГБ г.Сибай | D29: 2575423.2 | E29: 176625.36 | F29: =SUM(D29:E29) -> 2752048.6 | I29: =F29+G29+H29 -> 2752048.6
A30: 22 | B30: 024006 | C30: ФГБУЗ МСЧ №142 ФМБА России | F30: =SUM(D30:E30) -> 0 | I30: =F30+G30+H30 -> 0
A31: 23 | B31: 021536 | C31: ООО "МедТех" | F31: =SUM(D31:E31) -> 0 | I31: =F31+G31+H31 -> 0
A32: 24 | B32: 021621 | C32: ГАУЗ РБ "Санаторий для детей Нур г.Стерлитамак" | F32: =SUM(D32:E32) -> 0 | I32: =F32+G32+H32 -> 0
A33: 25 | B33: 021601 | C33: ГБУЗ РБ ГКБ №1 г.Стерлитамак | D33: 3653376.9 | F33: =SUM(D33:E33) -> 3653376.9 | I33: =F33+G33+H33 -> 3653376.9
A34: 26 | B34: 021616 | C34: ГБУЗ РБ ДБ г.Стерлитамак | F34: =SUM(D34:E34) -> 0 | I34: =F34+G34+H34 -> 0
A35: 27 | B35: 021636 | C35: ГБУЗ РБ СП г.Стерлитамак | F35: =SUM(D35:E35) -> 0 | I35: =F35+G35+H35 -> 0
A36: 28 | B36: 021111 | C36: ГБУЗ РБ ГБ г.Кумертау | D36: 3547376.2 | E36: 176625.36 | F36: =SUM(D36:E36) -> 3724001.6 | I36: =F36+G36+H36 -> 3724001.6
A37: 29 | B37: 021424 | C37: ГБУЗ РБ ГБ г.Салават | F37: =SUM(D37:E37) -> 0 | I37: =F37+G37+H37 -> 0
A38: 30 | B38: 021105 | C38: ГБУЗ РБ Исянгуловская ЦРБ | D38: 1607396.1 | F38: =SUM(D38:E38) -> 1607396.1 | I38: =F38+G38+H38 -> 1607396.1
A39: 31 | B39: 029001 | C39: ГБУЗ РБ Ишимбайская ЦРБ | D39: 4492969.3 | F39: =SUM(D39:E39) -> 4492969.3 | I39: =F39+G39+H39 -> 4492969.3
A40: 32 | B40: 021605 | C40: ГБУЗ РБ Красноусольская ЦРБ | D40: 1423998.1 | F40: =SUM(D40:E40) -> 1423998.1 | I40: =F40+G40+H40 -> 1423998.1
A41: 33 | B41: 021104 | C41: ГБУЗ РБ Мелеузовская ЦРБ | D41: 3347713.6 | F41: =SUM(D41:E41) -> 3347713.6 | I41: =F41+G41+H41 -> 3347713.6
A42: 34 | B42: 021102 | C42: ГБУЗ РБ Мраковская ЦРБ | D42: 1425119.9 | F42: =SUM(D42:E42) -> 1425119.9 | I42: =F42+G42+H42 -> 1425119.9
A43: 35 | B43: 021606 | C43: ГБУЗ РБ Стерлибашевская ЦРБ | D43: 724057.35 | F43: =SUM(D43:E43) -> 724057.35 | I43: =F43+G43+H43 -> 724057.35
A44: 36 | B44: 021607 | C44: ГБУЗ РБ Толбазинская ЦРБ | D44: 1273690.4 | F44: =SUM(D44:E44) -> 1273690.4 | I44: =F44+G44+H44 -> 1273690.4
A45: 37 | B45: 021405 | C45: ГБУЗ РБ Федоровская ЦРБ | D45: 1158155.2 | F45: =SUM(D45:E45) -> 1158155.2 | I45: =F45+G45+H45 -> 1158155.2
A46: 38 | B46: 021401 | C46: ООО "Медсервис" г.Салават | F46: =SUM(D46:E46) -> 0 | I46: =F46+G46+H46 -> 0
A47: 39 | B47: 021303 | C47: ГБУЗ РБ ГБ №1 г.Октябрьский | D47: 4765542.5 | E47: 176625.36 | F47: =SUM(D47:E47) -> 4942167.8 | I47: =F47+G47+H47 -> 4942167.8
A48: 40 | B48: 028004 | C48: ГБУЗ РБ Бакалинская ЦРБ | D48: 1514855.9 | F48: =SUM(D48:E48) -> 1514855.9 | I48: =F48+G48+H48 -> 1514855.9
A49: 41 | B49: 023002 | C49: ГБУЗ РБ Белебеевская ЦРБ | D49: 4169919.8 | F49: =SUM(D49:E49) -> 4169919.8 | H49: 1009918 | I49: =F49+G49+H49 -> 5179837.8
A50: 42 | B50: 023005 | C50: ГБУЗ РБ Бижбулякская ЦРБ | D50: 1298928.6 | F50: =SUM(D50:E50) -> 1298928.6 | I50: =F50+G50+H50 -> 1298928.6
A51: 43 | B51: 022002 | C51: ГБУЗ РБ Буздякская ЦРБ | D51: 1368474 | F51: =SUM(D51:E51) -> 1368474 | I51: =F51+G51+H51 -> 1368474
A52: 87 | B52: 028002 | C52: ГБУЗ РБ Верхнеяркеевская ЦРБ | D52: 1422315.6 | F52: =SUM(D52:E52) -> 1422315.6 | I52: =F52+G52+H52 -> 1422315.6
A53: 44 | B53: 021002 | C53: ГБУЗ РБ Давлекановская ЦРБ | D53: 1279859.7 | F53: =SUM(D53:E53) -> 1279859.7 | I53: =F53+G53+H53 -> 1279859.7
A54: 45 | B54: 023006 | C54: ГБУЗ РБ Ермекеевская ЦРБ | D54: 706671 | F54: =SUM(D54:E54) -> 706671 | I54: =F54+G54+H54 -> 706671
A55: 46 | B55: 021001 | C55: ГБУЗ РБ Миякинская ЦРБ | D55: 1426802.4 | F55: =SUM(D55:E55) -> 1426802.4 | I55: =F55+G55+H55 -> 1426802.4
A56: 47 | B56: 021003 | C56: ГБУЗ РБ Раевская ЦРБ | D56: 1569819.1 | F56: =SUM(D56:E56) -> 1569819.1 | I56: =F56+G56+H56 -> 1569819.1
A57: 48 | B57: 021701 | C57: ГБУЗ РБ Туймазинская ЦРБ | D57: 6047645.5 | F57: =SUM(D57:E57) -> 6047645.5 | I57: =F57+G57+H57 -> 6047645.5
A58: 49 | B58: 027002 | C58: ГБУЗ РБ Чекмагушевская ЦРБ | D58: 1164324.6 | F58: =SUM(D58:E58) -> 1164324.6 | I58: =F58+G58+H58 -> 1164324.6
A59: 95 | B59: 021706 | C59: ГБУЗ РБ Шаранская ЦРБ | D59: 1176102.4 | F59: =SUM(D59:E59) -> 1176102.4 | I59: =F59+G59+H59 -> 1176102.4
A60: 50 | B60: 022003 | C60: ГБУЗ РБ Языковская ЦРБ | D60: 1039255.1 | F60: =SUM(D60:E60) -> 1039255.1 | I60: =F60+G60+H60 -> 1039255.1
A61: 97 | B61: 021322 | C61: ООО "ОСЦ" | F61: =SUM(D61:E61) -> 0 | I61: =F61+G61+H61 -> 0
A62: 51 | B62: 029179 | C62: ГАУЗ РБ Санаторий "Дуслык" г.Уфа | F62: =SUM(D62:E62) -> 0 | I62: =F62+G62+H62 -> 0
A63: 52 | B63: 021110 | C63: ГБУЗ РБ Детская поликлиника №2 г.Уфа | F63: =SUM(D63:E63) -> 0 | I63: =F63+G63+H63 -> 0
A64: 53 | B64: 021100 | C64: ГБУЗ РБ Детская поликлиника №3 г.Уфа | F64: =SUM(D64:E64) -> 0 | I64: =F64+G64+H64 -> 0
A65: 54 | B65: 027000 | C65: ГБУЗ РБ Детская поликлиника №4 г.Уфа | F65: =SUM(D65:E65) -> 0 | I65: =F65+G65+H65 -> 0
A66: 55 | B66: 021120 | C66: ГБУЗ РБ Детская поликлиника №5 г.Уфа | F66: =SUM(D66:E66) -> 0 | I66: =F66+G66+H66 -> 0
A67: 56 | B67: 021130 | C67: ГБУЗ РБ Детская поликлиника №6 г.Уфа | F67: =SUM(D67:E67) -> 0 | I67: =F67+G67+H67 -> 0
A68: 57 | B68: 021140 | C68: ГАУЗ РБ Детская стоматологическая поликлиника №3 г.Уфа | F68: =SUM(D68:E68) -> 0 | I68: =F68+G68+H68 -> 0
A69: 58 | B69: 021150 | C69: ГБУЗ РБ Детская стоматологическая поликлиника №7 г.Уфа | F69: =SUM(D69:E69) -> 0 | I69: =F69+G69+H69 -> 0
A70: 59 | B70: 029100 | C70: ГБУЗ РБ Поликлиника №43 г.Уфа | F70: =SUM(D70:E70) -> 0 | I70: =F70+G70+H70 -> 0
A71: 60 | B71: 029300 | C71: ГБУЗ РБ Поликлиника №46 г.Уфа | F71: =SUM(D71:E71) -> 0 | I71: =F71+G71+H71 -> 0
A72: 61 | B72: 029700 | C72: ГБУЗ РБ Поликлиника №50 г.Уфа | F72: =SUM(D72:E72) -> 0 | I72: =F72+G72+H72 -> 0
... A89: 78 | B89: 022800 | C89: ФГБОУ ВО БГМУ Минздрава России всего, в том числе: | F89: =SUM(D89:E89) -> 0 | I89: =F89+G89+H89 -> 0
C90: ФГБОУ ВО БГМУ Минздрава России (без стоматологии, офтальмологии для отдельных структурных подразделений) | F90: =SUM(D90:E90) -> 0 | I90: =F90+G90+H90 -> 0
C91: ФГБОУ ВО БГМУ Минздрава России (стоматология) | F91: =SUM(D91:E91) -> 0 | I91: =F91+G91+H91 -> 0
C92: ФГБОУ ВО БГМУ Минздрава России (офтальмология для отдельных структурных подразделений) | F92: =SUM(D92:E92) -> 0 | I92: =F92+G92+H92 -> 0
A93: 79 | B93: 025000 | C93: ФКУЗ "МСЧ МВД России по Республике Башкортостан" | F93: =SUM(D93:E93) -> 0 | I93: =F93+G93+H93 -> 0
A94: 80 | B94: 020171 | C94: УФИЦ РАН | F94: =SUM(D94:E94) -> 0 | I94: =F94+G94+H94 -> 0
A95: 81 | B95: 022117 | C95: ЧУЗ "КБ "РЖД-Медицина"г.Уфа | F95: =SUM(D95:E95) -> 0 | I95: =F95+G95+H95 -> 0
A96: 82 | B96: 022204 | C96: ГБУЗ РБ Архангельская ЦРБ | D96: 927085.05 | F96: =SUM(D96:E96) -> 927085.05 | I96: =F96+G96+H96 -> 927085.05
A97: 83 | B97: 026005 | C97: ГБУЗ РБ Белокатайская ЦРБ | D97: 1194610.5 | F97: =SUM(D97:E97) -> 1194610.5 | I97: =F97+G97+H97 -> 1194610.5
A98: 84 | B98: 022202 | C98: ГБУЗ РБ Благовещенская ЦРБ | D98: 2081314.4 | F98: =SUM(D98:E98) -> 2081314.4 | I98: =F98+G98+H98 -> 2081314.4
A99: 85 | B99: 026002 | C99: ГБУЗ РБ Большеустьикинская ЦРБ | D99: 922037.4 | F99: =SUM(D99:E99) -> 922037.4 | I99: =F99+G99+H99 -> 922037.4
A100: 86 | B100: 022201 | C100: ГБУЗ РБ Иглинская ЦРБ | D100: 2823879.8 | F100: =SUM(D100:E100) -> 2823879.8 | I100: =F100+G100+H100 -> 2823879.8
A101: 88 | B101: 022205 | C101: ГБУЗ РБ Кармаскалинская ЦРБ | D101: 2025229.4 | F101: =SUM(D101:E101) -> 2025229.4 | I101: =F101+G101+H101 -> 2025229.4
A102: 89 | B102: 026004 | C102: ГБУЗ РБ Кигинская ЦРБ | D102: 925963.35 | F102: =SUM(D102:E102) -> 925963.35 | I102: =F102+G102+H102 -> 925963.35
A103: 90 | B103: 022208 | C103: ГБУЗ РБ Кушнаренковская ЦРБ | D103: 1251817.2 | F103: =SUM(D103:E103) -> 1251817.2 | I103: =F103+G103+H103 -> 1251817.2
A104: 91 | B104: 026003 | C104: ГБУЗ РБ Малоязовская ЦРБ | D104: 954566.7 | F104: =SUM(D104:E104) -> 954566.7 | I104: =F104+G104+H104 -> 954566.7
A105: 92 | B105: 026001 | C105: ГБУЗ РБ Месягутовская ЦРБ | D105: 1489617.6 | E105: 176625.36 | F105: =SUM(D105:E105) -> 1666243 | I105: =F105+G105+H105 -> 1666243
A106: 93 | B106: 022203 | C106: ГБУЗ РБ Нуримановская ЦРБ | D106: 2590566.1 | F106: =SUM(D106:E106) -> 2590566.1 | I106: =F106+G106+H106 -> 2590566.1
A107: 94 | B107: 022000 | C107: ГБУЗ РБ Чишминская ЦРБ | D107: 2623656.3 | F107: =SUM(D107:E107) -> 2623656.3 | I107: =F107+G107+H107 -> 2623656.3
A108: 96 | B108: 020251 | C108: ООО "МЦ "Агидель" | F108: =SUM(D108:E108) -> 0 | I108: =F108+G108+H108 -> 0
A109: 98 | B109: 020169 | C109: ООО "АНЭКО" | F109: =SUM(D109:E109) -> 0 | I109: =F109+G109+H109 -> 0
A110: 99 | B110: 020235 | C110: ООО "Евромед-Уфа" | F110: =SUM(D110:E110) -> 0 | I110: =F110+G110+H110 -> 0
A111: 100 | B111: 020232 | C111: ООО "Клиника глазных болезней" | F111: =SUM(D111:E111) -> 0 | I111: =F111+G111+H111 -> 0
A112: 101 | B112: 020241 | C112: ООО "Клиника современной флебологии" | F112: =SUM(D112:E112) -> 0 | I112: =F112+G112+H112 -> 0
A113: 102 | B113: 020181 | C113: ООО "Клиника Эксперт Уфа" | F113: =SUM(D113:E113) -> 0 | I113: =F113+G113+H113 -> 0
A114: 103 | B114: 029140 | C114: ООО "Лаборатория гемодиализа" | F114: =SUM(D114:E114) -> 0 | I114: =F114+G114+H114 -> 0
A115: 104 | B115: 029150 | C115: ООО "ЛДЦ МИБС-Уфа" | F115: =SUM(D115:E115) -> 0 | I115: =F115+G115+H115 -> 0
A116: 105 | B116: 020188 | C116: ООО"МД Проект 2010" | F116: =SUM(D116:E116) -> 0 | I116: =F116+G116+H116 -> 0
A117: 106 | B117: 020157 | C117: ООО "Медицинский центр Семья" | F117: =SUM(D117:E117) -> 0 | I117: =F117+G117+H117 -> 0
A118: 107 | B118: 020265 | C118: ООО "ММЦ Медикал Он Груп-Уфа" | F118: =SUM(D118:E118) -> 0 | I118: =F118+G118+H118 -> 0
...

Sheet Паллиативная МП
A1: Плановые объемы финансового обеспечения по комплексу процессных мероприятий «Оказание паллиативной медицинской помощи, в том числе на дому» на 2026 год.
A3: № п/п | B3: Реестро-вый номер | C3: Наименование медицинской организации | D3: в амбулаторных условиях | I3: в условиях круглосуточного стационара | J3: ИТОГО
D4: посещения при оказании паллиативной помощи, в том числе на дому (за исключением посещений на дому выездными бригадами) | E4: посещения на дому выездными патронажными бригадами | H4: Всего
E5: взрослые | F5: дети | G5: всего
A6: ВСЕГО | D6: =SUM(D7:D8) -> 86320345 | E6: =SUM(E7:E8) -> 54020512 | F6: =SUM(F7:F8) -> 12543562 | G6: =SUM(G7:G8) -> 66564094 | H6: =SUM(H7:H8) -> 1.5288444e+08 | I6: =SUM(I7:I8) -> 924343918 | J6: =SUM(J7:J8) -> 1.0772284e+09
A7: Медицинская помощь за пределами РБ | D7: 33.84 | G7: 19.73 | H7: =D7+G7 -> 53.57 | I7: 1272.4 | J7: =H7+I7 -> 1325.97
A8: Итого по МО | D8: =SUM(D9:D146)-D34-D89 -> 86320311 | E8: =SUM(E9:E146)-E34-E89 -> 54020512 | F8: =SUM(F9:F146)-F34-F89 -> 12543562 | G8: =SUM(G9:G146)-G34-G89 -> 66564075 | H8: =SUM(H9:H146)-H34-H89 -> 1.5288439e+08 | I8: =SUM(I9:I146)-I34-I89 -> 9.2434265e+08 | J8: =SUM(J9:J146)-J34-J89 -> 1.077227e+09
A9: 1 | B9: 025004 | C9: ГБУЗ РБ Аскинская ЦРБ | I9: 10069092 | J9: =H9+I9 -> 10069092
A10: 2 | B10: 022103 | C10: ГБУЗ РБ Балтачевская ЦРБ | D10: 904552.4 | E10: 462840.46 | G10: =SUM(E10:F10) -> 462840.46 | H10: =D10+G10 -> 1367392.9 | I10: 10069092 | J10: =H10+I10 -> 11436485
A11: 3 | B11: 025001 | C11: ГБУЗ РБ Бирская ЦРБ | D11: 2078009.9 | E11: 922751.55 | F11: 448193.61 | G11: =SUM(E11:F11) -> 1370945.2 | H11: =D11+G11 -> 3448955.1 | I11: 12754183 | J11: =H11+I11 -> 16203138
A12: 4 | B12: 025005 | C12: ГБУЗ РБ Бураевская ЦРБ | D12: 472195.1 | H12: =D12+G12 -> 472195.1 | I12: 10069092 | J12: =H12+I12 -> 10541287
A13: 5 | B13: 022102 | C13: ГБУЗ РБ Верхне-Татышлинская ЦРБ | I13: 10069092 | J13: =H13+I13 -> 10069092
A14: 6 | B14: 021201 | C14: ГБУЗ РБ ГБ г.Нефтекамск | D14: 4410864.7 | E14: 805576.75 | F14: 911034.07 | G14: =SUM(E14:F14) -> 1716610.8 | H14: =D14+G14 -> 6127475.5 | I14: 21145093 | J14: =H14+I14 -> 27272569
A15: 7 | B15: 027001 | C15: ГБУЗ РБ Дюртюлинская ЦРБ | D15: 1905770.1 | E15: 1230335.4 | G15: =SUM(E15:F15) -> 1230335.4 | H15: =D15+G15 -> 3136105.5 | I15: 10069092 | J15: =H15+I15 -> 13205197
A16: 8 | B16: 021206 | C16: ГБУЗ РБ Калтасинская ЦРБ | I16: 10069092 | J16: =H16+I16 -> 10069092
A17: 9 | B17: 025003 | C17: ГБУЗ РБ Караидельская ЦРБ | D17: 463407.35 | E17: 290007.63 | G17: =SUM(E17:F17) -> 290007.63 | H17: =D17+G17 -> 753414.98 | I17: 5034546 | J17: =H17+I17 -> 5787961
A18: 10 | B18: 021205 | C18: ГБУЗ РБ Краснокамская ЦРБ | I18: 10069092 | J18: =H18+I18 -> 10069092
A19: 11 | B19: 025002 | C19: ГБУЗ РБ Мишкинская ЦРБ | I19: 10069092 | J19: =H19+I19 -> 10069092
A20: 12 | B20: 022104 | C20: ГБУЗ РБ Янаульская ЦРБ | D20: 929158.1 | H20: =D20+G20 -> 929158.1 | I20: 10069092 | J20: =H20+I20 -> 10998250
A21: 13 | B21: 020163 | C21: ООО "АВИЦЕННА" г.Нефтекамск | J21: =H21+I21 -> 0
A22: 14 | B22: 021501 | C22: ГБУЗ РБ Акъярская ЦРБ | I22: 10069092 | J22: =H22+I22 -> 10069092
A23: 15 | B23: 024001 | C23: ГБУЗ РБ Аскаровская ЦРБ | I23: 10069092 | J23: =H23+I23 -> 10069092
A24: 16 | B24: 022001 | C24: ГБУЗ РБ Баймакская ЦГБ | D24: 1103155.6 | E24: 776283.05 | G24: =SUM(E24:F24) -> 776283.05 | H24: =D24+G24 -> 1879438.6 | I24: 10069092 | J24: =H24+I24 -> 11948531
A25: 17 | B25: 024005 | C25: ГБУЗ РБ Белорецкая ЦРКБ | D25: 3232134.5 | E25: 1479331.9 | F25: 858305.41 | G25: =SUM(E25:F25) -> 2337637.3 | H25: =D25+G25 -> 5569771.7 | I25: 11076001 | J25: =H25+I25 -> 16645773
A26: 18 | B26: 024002 | C26: ГБУЗ РБ Бурзянская ЦРБ | D26: 345065.65 | E26: 278290.15 | G26: =SUM(E26:F26) -> 278290.15 | H26: =D26+G26 -> 623355.8 | I26: 5034546 | J26: =H26+I26 -> 5657901.8
A27: 19 | B27: 022012 | C27: ГБУЗ РБ Зилаирская ЦРБ | D27: 877603.3 | E27: 562439.04 | G27: =SUM(E27:F27) -> 562439.04 | H27: =D27+G27 -> 1440042.3 | I27: 10069092 | J27: =H27+I27 -> 11509134
A28: 20 | B28: 021901 | C28: ГБУЗ РБ Учалинская ЦГБ | D28: 1462281.6 | E28: 896387.22 | G28: =SUM(E28:F28) -> 896387.22 | H28: =D28+G28 -> 2358668.8 | I28: 10069092 | J28: =H28+I28 -> 12427761
A29: 21 | B29: 021502 | C29: ГБУЗ РБ ЦГБ г.Сибай | D29: 1220911.4 | E29: 808506.12 | F29: 571227.15 | G29: =SUM(E29:F29) -> 1379733.3 | H29: =D29+G29 -> 2600644.7 | I29: 11076001 | J29: =H29+I29 -> 13676646
A30: 22 | B30: 024006 | C30: ФГБУЗ МСЧ №142 ФМБА России | J30: =H30+I30 -> 0
A31: 23 | B31: 021536 | C31: ООО "МедТех" | J31: =H31+I31 -> 0
A32: 24 | B32: 021621 | C32: ГАУЗ РБ "Санаторий для детей Нур г.Стерлитамак" | J32: =H32+I32 -> 0
A33: 25 | B33: 021601 | C33: ГБУЗ РБ ГКБ №1 г.Стерлитамак | D33: 7055391.5 | E33: 3049474.2 | F33: 348595.03 | G33: =SUM(E33:F33) -> 3398069.2 | H33: =D33+G33 -> 10453461 | I33: 22152002 | J33: =H33+I33 -> 32605463
A34: 26 | B34: 021616 | C34: ГБУЗ РБ ДБ г.Стерлитамак | J34: =H34+I34 -> 0
A35: 27 | B35: 021636 | C35: ГБУЗ РБ СП г.Стерлитамак | J35: =H35+I35 -> 0
A36: 28 | B36: 021111 | C36: ГБУЗ РБ ГБ г.Кумертау | D36: 2434792.6 | E36: 1368015.8 | F36: 831941.08 | G36: =SUM(E36:F36) -> 2199956.9 | H36: =D36+G36 -> 4634749.5 | I36: 11076001 | J36: =H36+I36 -> 15710751
A37: 29 | B37: 021424 | C37: ГБУЗ РБ ГБ г.Салават | D37: 3050521 | E37: 1991971.6 | F37: 814364.86 | G37: =SUM(E37:F37) -> 2806336.5 | H37: =D37+G37 -> 5856857.4 | I37: 10069092 | J37: =H37+I37 -> 15925949
A38: 30 | B38: 021105 | C38: ГБУЗ РБ Исянгуловская ЦРБ | D38: 519063.1 | E38: 424758.65 | G38: =SUM(E38:F38) -> 424758.65 | H38: =D38+G38 -> 943821.75 | I38: 10069092 | J38: =H38+I38 -> 11012914
A39: 31 | B39: 029001 | C39: ГБУЗ РБ Ишимбайская ЦРБ | D39: 1752863.2 | E39: 1306499 | G39: =SUM(E39:F39) -> 1306499 | H39: =D39+G39 -> 3059362.2 | I39: 11747274 | J39: =H39+I39 -> 14806636
A40: 32 | B40: 021605 | C40: ГБУЗ РБ Красноусольская ЦРБ | I40: 10069092 | J40: =H40+I40 -> 10069092
A41: 33 | B41: 021104 | C41: ГБУЗ РБ Мелеузовская ЦРБ | D41: 2082110.9 | E41: 1549636.7 | G41: =SUM(E41:F41) -> 1549636.7 | H41: =D41+G41 -> 3631747.6 | I41: 10069092 | J41: =H41+I41 -> 13700840
A42: 34 | B42: 021102 | C42: ГБУЗ РБ Мраковская ЦРБ | I42: 10069092 | J42: =H42+I42 -> 10069092
A43: 35 | B43: 021606 | C43: ГБУЗ РБ Стерлибашевская ЦРБ | D43: 404236.5 | E43: 246067.08 | G43: =SUM(E43:F43) -> 246067.08 | H43: =D43+G43 -> 650303.58 | I43: 10069092 | J43: =H43+I43 -> 10719396
A44: 36 | B44: 021607 | C44: ГБУЗ РБ Толбазинская ЦРБ | I44: 10069092 | J44: =H44+I44 -> 10069092
A45: 37 | B45: 021405 | C45: ГБУЗ РБ Федоровская ЦРБ | I45: 10069092 | J45: =H45+I45 -> 10069092
A46: 38 | B46: 021401 | C46: ООО "Медсервис" г.Салават | J46: =H46+I46 -> 0
A47: 39 | B47: 021303 | C47: ГБУЗ РБ ГБ №1 г.Октябрьский | D47: 2210412 | E47: 1813280 | G47: =SUM(E47:F47) -> 1813280 | H47: =D47+G47 -> 4023692.1 | I47: 11076001 | J47: =H47+I47 -> 15099693
A48: 40 | B48: 028004 | C48: ГБУЗ РБ Бакалинская ЦРБ | D48: 583506.6 | E48: 790929.9 | G48: =SUM(E48:F48) -> 790929.9 | H48: =D48+G48 -> 1374436.5 | I48: 10069092 | J48: =H48+I48 -> 11443528
A49: 41 | B49: 023002 | C49: ГБУЗ РБ Белебеевская ЦРБ | D49: 2312935.8 | E49: 1637517.8 | F49: 802647.38 | G49: =SUM(E49:F49) -> 2440165.2 | H49: =D49+G49 -> 4753101 | I49: 20138184 | J49: =H49+I49 -> 24891285
A50: 42 | B50: 023005 | C50: ГБУЗ РБ Бижбулякская ЦРБ | I50: 10069092 | J50: =H50+I50 -> 10069092
A51: 43 | B51: 022002 | C51: ГБУЗ РБ Буздякская ЦРБ | D51: 585850 | H51: =D51+G51 -> 585850 | I51: 10069092 | J51: =H51+I51 -> 10654942
A52: 87 | B52: 028002 | C52: ГБУЗ РБ Верхнеяркеевская ЦРБ | I52: 10069092 | J52: =H52+I52 -> 10069092
A53: 44 | B53: 021002 | C53: ГБУЗ РБ Давлекановская ЦРБ | D53: 796756 | E53: 1154171.8 | G53: =SUM(E53:F53) -> 1154171.8 | H53: =D53+G53 -> 1950927.8 | I53: 10069092 | J53: =H53+I53 -> 12020020
A54: 45 | B54: 023006 | C54: ГБУЗ РБ Ермекеевская ЦРБ | D54: 292339.15 | H54: =D54+G54 -> 292339.15 | I54: 10069092 | J54: =H54+I54 -> 10361431
A55: 46 | B55: 021001 | C55: ГБУЗ РБ Миякинская ЦРБ | D55: 544254.65 | E55: 331018.81 | G55: =SUM(E55:F55) -> 331018.81 | H55: =D55+G55 -> 875273.46 | I55: 10069092 | J55: =H55+I55 -> 10944365
A56: 47 | B56: 021003 | C56: ГБУЗ РБ Раевская ЦРБ | D56: 815503.2 | H56: =D56+G56 -> 815503.2 | I56: 10069092 | J56: =H56+I56 -> 10884595
A57: 48 | B57: 021701 | C57: ГБУЗ РБ Туймазинская ЦРБ | D57: 2720101.5 | E57: 1368015.8 | F57: 518498.49 | G57: =SUM(E57:F57) -> 1886514.3 | H57: =D57+G57 -> 4606615.8 | I57: 11747274 | J57: =H57+I57 -> 16353890
A58: 49 | B58: 027002 | C58: ГБУЗ РБ Чекмагушевская ЦРБ | D58: 595223.6 | E58: 1080937.5 | G58: =SUM(E58:F58) -> 1080937.5 | H58: =D58+G58 -> 1676161.1 | I58: 10069092 | J58: =H58+I58 -> 11745253
A59: 95 | B59: 021706 | C59: ГБУЗ РБ Шаранская ЦРБ | D59: 456377.15 | H59: =D59+G59 -> 456377.15 | I59: 10069092 | J59: =H59+I59 -> 10525469
A60: 50 | B60: 022003 | C60: ГБУЗ РБ Языковская ЦРБ | I60: 10069092 | J60: =H60+I60 -> 10069092
A61: 97 | B61: 021322 | C61: ООО "ОСЦ" | J61: =H61+I61 -> 0
A62: 51 | B62: 029179 | C62: ГАУЗ РБ Санаторий "Дуслык" г.Уфа | J62: =H62+I62 -> 0
A63: 52 | B63: 021110 | C63: ГБУЗ РБ Детская поликлиника №2 г.Уфа | J63: =H63+I63 -> 0
A64: 53 | B64: 021100 | C64: ГБУЗ РБ Детская поликлиника №3 г.Уфа | J64: =H64+I64 -> 0
A65: 54 | B65: 027000 | C65: ГБУЗ РБ Детская поликлиника №4 г.Уфа | J65: =H65+I65 -> 0
A66: 55 | B66: 021120 | C66: ГБУЗ РБ Детская поликлиника №5 г.Уфа | F66: 1672670.3 | G66: =SUM(E66:F66) -> 1672670.3 | H66: =D66+G66 -> 1672670.3 | J66: =H66+I66 -> 1672670.3
A67: 56 | B67: 021130 | C67: ГБУЗ РБ Детская поликлиника №6 г.Уфа | J67: =H67+I67 -> 0
A68: 57 | B68: 021140 | C68: ГАУЗ РБ Детская стоматологическая поликлиника №3 г.Уфа | J68: =H68+I68 -> 0
A69: 58 | B69: 021150 | C69: ГБУЗ РБ Детская стоматологическая поликлиника №7 г.Уфа | J69: =H69+I69 -> 0
A70: 59 | B70: 029100 | C70: ГБУЗ РБ Поликлиника №43 г.Уфа | D70: 2087383.6 | E70: 2369860.3 | G70: =SUM(E70:F70) -> 2369860.3 | H70: =D70+G70 -> 4457243.9 | J70: =H70+I70 -> 4457243.9
A71: 60 | B71: 029300 | C71: ГБУЗ РБ Поликлиника №46 г.Уфа | D71: 1247860.5 | E71: 2695020.4 | G71: =SUM(E71:F71) -> 2695020.4 | H71: =D71+G71 -> 3942880.9 | J71: =H71+I71 -> 3942880.9
A72: 61 | B72: 029700 | C72: ГБУЗ РБ Поликлиника №50 г.Уфа | D72: 2938623.6 | H72: =D72+G72 -> 2938623.6 | J72: =H72+I72 -> 2938623.6
A73: 62 | B73: 021040 | C73: ГБУЗ РБ Стоматологическая поликлиника №1 г.Уфа | J73: =H73+I73 -> 0
A74: 63 | B74: 021050 | C74: ГБУЗ РБ Стоматологическая поликлиника №2 г.Уфа | J74: =H74+I74 -> 0
A75: 64 | B75: 021060 | C75: ГБУЗ РБ Стоматологическая поликлиника №4 г.Уфа | J75: =H75+I75 -> 0
A76: 65 | B76: 021070 | C76: ГБУЗ РБ Стоматологическая поликлиника №5 г.Уфа | J76: =H76+I76 -> 0
A77: 66 | B77: 021080 | C77: ГБУЗ РБ Стоматологическая поликлиника №6 г.Уфа | J77: =H77+I77 -> 0
A78: 67 | B78: 021160 | C78: ГАУЗ РБ Стоматологическая поликлиника №8 г.Уфа | J78: =H78+I78 -> 0
A79: 68 | B79: 021310 | C79: ГАУЗ РБ Стоматологическая поликлиника №9 г.Уфа | J79: =H79+I79 -> 0
A80: 69 | B80: 029400 | C80: ГБУЗ РБ ГКБ Демского района г.Уфы | D80: 1500947.7 | H80: =D80+G80 -> 1500947.7 | I80: 15103638 | J80: =H80+I80 -> 16604586
A81: 70 | B81: 023500 | C81: ГБУЗ РБ ГКБ №5 г.Уфа | D81: 4011900.8 | E81: 2990886.8 | G81: =SUM(E81:F81) -> 2990886.8 | H81: =D81+G81 -> 7002787.6 | I81: 26850912 | J81: =H81+I81 -> 33853700
A82: 71 | B82: 021800 | C82: ГБУЗ РБ ГКБ №8 г.Уфа | D82: 2277784.8 | E82: 1409027 | G82: =SUM(E82:F82) -> 1409027 | H82: =D82+G82 -> 3686811.8 | I82: 10069092 | J82: =H82+I82 -> 13755904
A83: 72 | B83: 024200 | C83: ГБУЗ РБ ГКБ №9 г.Уфа | D83: 545426.35 | H83: =D83+G83 -> 545426.35 | I83: 10069092 | J83: =H83+I83 -> 10614518
A84: 73 | B84: 022300 | C84: ГБУЗ РБ ГКБ №13 г.Уфа | D84: 3783419.3 | E84: 1980254.1 | G84: =SUM(E84:F84) -> 1980254.1 | H84: =D84+G84 -> 5763673.4 | I84: 15103638 | J84: =H84+I84 -> 20867311
A85: 74 | B85: 021200 | C85: ГБУЗ РБ ГДКБ №17 г.Уфа | F85: 2035912.1 | G85: =SUM(E85:F85) -> 2035912.1 | H85: =D85+G85 -> 2035912.1 | I85: 12082910 | J85: =H85+I85 -> 14118823
A86: 75 | B86: 028000 | C86: ГБУЗ РБ ГКБ №18 г.Уфы | D86: 3052864.4 | H86: =D86+G86 -> 3052864.4 | I86: 12754183 | J86: =H86+I86 -> 15807048
A87: 76 | B87: 023200 | C87: ГБУЗ РБ ГКПЦ г.Уфы | J87: =H87+I87 -> 0
A88: 77 | B88: 020159 | C88: ГБУЗ РБ ЦСМП и МК | J88: =H88+I88 -> 0
A89: 78 | B89: 022800 | C89: ФГБОУ ВО БГМУ Минздрава России всего, в том числе: | J89: =H89+I89 -> 0
C90: ФГБОУ ВО БГМУ Минздрава России (без стоматологии, офтальмологии для отдельных структурных подразделений) | J90: =H90+I90 -> 0
C91: ФГБОУ ВО БГМУ Минздрава России (стоматология) | J91: =H91+I91 -> 0
C92: ФГБОУ ВО БГМУ Минздрава России (офтальмология для отдельных структурных подразделений) | J92: =H92+I92 -> 0
A93: 79 | B93: 025000 | C93: ФКУЗ "МСЧ МВД России по Республике Башкортостан" | J93: =H93+I93 -> 0
A94: 80 | B94: 020171 | C94: УФИЦ РАН | J94: =H94+I94 -> 0
A95: 81 | B95: 022117 | C95: ЧУЗ "КБ "РЖД-Медицина"г.Уфа | J95: =H95+I95 -> 0
A96: 82 | B96: 022204 | C96: ГБУЗ РБ Архангельская ЦРБ | I96: 10069092 | J96: =H96+I96 -> 10069092
A97: 83 | B97: 026005 | C97: ГБУЗ РБ Белокатайская ЦРБ | I97: 10069092 | J97: =H97+I97 -> 10069092
A98: 84 | B98: 022202 | C98: ГБУЗ РБ Благовещенская ЦРБ | D98: 1034611.1 | E98: 626885.18 | G98: =SUM(E98:F98) -> 626885.18 | H98: =D98+G98 -> 1661496.3 | I98: 10069092 | J98: =H98+I98 -> 11730588
A99: 85 | B99: 026002 | C99: ГБУЗ РБ Большеустьикинская ЦРБ | D99: 452862.05 | E99: 354453.77 | G99: =SUM(E99:F99) -> 354453.77 | H99: =D99+G99 -> 807315.82 | I99: 5034546 | J99: =H99+I99 -> 5841861.8
A100: 86 | B100: 022201 | C100: ГБУЗ РБ Иглинская ЦРБ | D100: 1173457.6 | E100: 837799.82 | G100: =SUM(E100:F100) -> 837799.82 | H100: =D100+G100 -> 2011257.4 | I100: 10069092 | J100: =H100+I100 -> 12080349
A101: 88 | B101: 022205 | C101: ГБУЗ РБ Кармаскалинская ЦРБ | D101: 2056333.5 | E101: 1025279.5 | G101: =SUM(E101:F101) -> 1025279.5 | H101: =D101+G101 -> 3081613 | I101: 10069092 | J101: =H101+I101 -> 13150705
...

Sheet Психотерапия
A1: Плановые объемы финансового обеспечения по комплексу процессных мероприятий «Улучшение уровня психологического здоровья населения» на 2026 год.
A3: № п/п | B3: Реестро-вый номер | C3: Наименование медицинской организации | D3: в амбулаторных условиях | K3: в условиях круглосуточных стационаров | N3: в условиях дневных стационаров | Q3: ИТОГО
D4: Посещения с профилактическими и иными целями | G4: Обращения в связи с заболеваниями | J4: Всего
D5: все МО кроме ГБУЗ РКПЦ Минздрава РБ | E5: ГБУЗ РКПЦ Минздрава РБ | F5: Всего | G5: все МО кроме ГБУЗ РКПЦ Минздрава РБ | H5: ГБУЗ РКПЦ Минздрава РБ | I5: Всего | K5: все МО кроме ГБУЗ РКПЦ Минздрава РБ | L5: ГБУЗ РКПЦ Минздрава РБ | M5: Всего | N5: все МО кроме ГБУЗ РКПЦ Минздрава РБ | O5: ГБУЗ РКПЦ Минздрава РБ | P5: Всего
A6: ВСЕГО | D6: =SUM(D7:D8) -> 11901210 | E6: =SUM(E7:E8) -> 37576431 | F6: =SUM(F7:F8) -> 49478094 | G6: =SUM(G7:G8) -> 4440976.2 | H6: =SUM(H7:H8) -> 14022051 | I6: =SUM(I7:I8) -> 18463033 | J6: =SUM(J7:J8) -> 67941127 | K6: =SUM(K7:K8) -> 1.4145486e+08 | ... Q6: =SUM(Q7:Q8) -> 5.990129e+08
A7: Медицинская помощь за пределами РБ | F7: 453.6 | I7: 5.58 | J7: =F7+I7 -> 459.18 | M7: 2030.39 | P7: 745.27 | Q7: =J7+M7+P7 -> 3234.84
A8: Итого по МО | D8: =SUM(D9:D146)-D89 -> 11901210 | E8: =SUM(E9:E146)-E89 -> 37576431 | F8: =SUM(F9:F146)-F89 -> 49477641 | G8: =SUM(G9:G146)-G89 -> 4440976.2 | H8: =SUM(H9:H146)-H89 -> 14022051 | I8: =SUM(I9:I146)-I89 -> 18463027 | J8: =SUM(J9:J146)-J89 -> 67940668 | K8: =SUM(K9:K146)-K89 -> 1.4145486e+08 | ... Q8: =SUM(Q9:Q146)-Q89 -> 5.9900967e+08
A9: 1 | B9: 025004 | C9: ГБУЗ РБ Аскинская ЦРБ | Q9: =J9+M9+P9 -> 0
A10: 2 | B10: 022103 | C10: ГБУЗ РБ Балтачевская ЦРБ | Q10: =J10+M10+P10 -> 0
A11: 3 | B11: 025001 | C11: ГБУЗ РБ Бирская ЦРБ | D11: 717473.2 | F11: =SUM(D11:E11) -> 717473.2 | G11: 203227.2 | I11: =SUM(G11:H11) -> 203227.2 | J11: =F11+I11 -> 920700.4 | N11: 4157286 | P11: =SUM(N11:O11) -> 4157286 | Q11: =J11+M11+P11 -> 5077986.4
A12: 4 | B12: 025005 | C12: ГБУЗ РБ Бураевская ЦРБ | Q12: =J12+M12+P12 -> 0
A13: 5 | B13: 022102 | C13: ГБУЗ РБ Верхне-Татышлинская ЦРБ | Q13: =J13+M13+P13 -> 0
A14: 6 | B14: 021201 | C14: ГБУЗ РБ ГБ г.Нефтекамск | Q14: =J14+M14+P14 -> 0
A15: 7 | B15: 027001 | C15: ГБУЗ РБ Дюртюлинская ЦРБ | Q15: =J15+M15+P15 -> 0
A16: 8 | B16: 021206 | C16: ГБУЗ РБ Калтасинская ЦРБ | Q16: =J16+M16+P16 -> 0
A17: 9 | B17: 025003 | C17: ГБУЗ РБ Караидельская ЦРБ | Q17: =J17+M17+P17 -> 0
A18: 10 | B18: 021205 | C18: ГБУЗ РБ Краснокамская ЦРБ | D18: 717473.2 | F18: =SUM(D18:E18) -> 717473.2 | G18: 288675 | I18: =SUM(G18:H18) -> 288675 | J18: =F18+I18 -> 1006148.2 | K18: 15487758 | M18: =SUM(K18:L18) -> 15487758 | Q18: =J18+M18+P18 -> 16493906
A19: 11 | B19: 025002 | C19: ГБУЗ РБ Мишкинская ЦРБ | Q19: =J19+M19+P19 -> 0
A20: 12 | B20: 022104 | C20: ГБУЗ РБ Янаульская ЦРБ | Q20: =J20+M20+P20 -> 0
A21: 13 | B21: 020163 | C21: ООО "АВИЦЕННА" г.Нефтекамск | Q21: =J21+M21+P21 -> 0
A22: 14 | B22: 021501 | C22: ГБУЗ РБ Акъярская ЦРБ | Q22: =J22+M22+P22 -> 0
A23: 15 | B23: 024001 | C23: ГБУЗ РБ Аскаровская ЦРБ | Q23: =J23+M23+P23 -> 0
A24: 16 | B24: 022001 | C24: ГБУЗ РБ Баймакская ЦГБ | Q24: =J24+M24+P24 -> 0
A25: 17 | B25: 024005 | C25: ГБУЗ РБ Белорецкая ЦРКБ | D25: 1835453.7 | F25: =SUM(D25:E25) -> 1835453.7 | G25: 1032301.8 | I25: =SUM(G25:H25) -> 1032301.8 | J25: =F25+I25 -> 2867755.5 | Q25: =J25+M25+P25 -> 2867755.5
A26: 18 | B26: 024002 | C26: ГБУЗ РБ Бурзянская ЦРБ | Q26: =J26+M26+P26 -> 0
A27: 19 | B27: 022012 | C27: ГБУЗ РБ Зилаирская ЦРБ | Q27: =J27+M27+P27 -> 0
A28: 20 | B28: 021901 | C28: ГБУЗ РБ Учалинская ЦГБ | D28: 637371.74 | F28: =SUM(D28:E28) -> 637371.74 | G28: 288675 | I28: =SUM(G28:H28) -> 288675 | J28: =F28+I28 -> 926046.74 | K28: 15487758 | M28: =SUM(K28:L28) -> 15487758 | P28: =SUM(N28:O28) -> 0 | Q28: =J28+M28+P28 -> 16413805
A29: 21 | B29: 021502 | C29: ГБУЗ РБ ЦГБ г.Сибай | D29: 716981.78 | F29: =SUM(D29:E29) -> 716981.78 | G29: 203227.2 | I29: =SUM(G29:H29) -> 203227.2 | J29: =F29+I29 -> 920208.98 | K29: 15487758 | M29: =SUM(K29:L29) -> 15487758 | P29: =SUM(N29:O29) -> 0 | Q29: =J29+M29+P29 -> 16407967
A30: 22 | B30: 024006 | C30: ФГБУЗ МСЧ №142 ФМБА России | Q30: =J30+M30+P30 -> 0
A31: 23 | B31: 021536 | C31: ООО "МедТех" | Q31: =J31+M31+P31 -> 0
A32: 24 | B32: 021621 | C32: ГАУЗ РБ "Санаторий для детей Нур г.Стерлитамак" | Q32: =J32+M32+P32 -> 0
A33: 25 | B33: 021601 | C33: ГБУЗ РБ ГКБ №1 г.Стерлитамак | D33: 716981.78 | F33: =SUM(D33:E33) -> 716981.78 | G33: 288675 | I33: =SUM(G33:H33) -> 288675 | J33: =F33+I33 -> 1005656.8 | K33: =23231637+57883.54+1678622.66 -> 24968143 | M33: =SUM(K33:L33) -> 24968143 | N33: 4157286 | P33: =SUM(N33:O33) -> 4157286 | Q33: =J33+M33+P33 -> 30131086
A34: 26 | B34: 021616 | C34: ГБУЗ РБ ДБ г.Стерлитамак | Q34: =J34+M34+P34 -> 0
A35: 27 | B35: 021636 | C35: ГБУЗ РБ СП г.Стерлитамак | Q35: =J35+M35+P35 -> 0
A36: 28 | B36: 021111 | C36: ГБУЗ РБ ГБ г.Кумертау | D36: 729758.7 | F36: =SUM(D36:E36) -> 729758.7 | G36: 288675 | I36: =SUM(G36:H36) -> 288675 | J36: =F36+I36 -> 1018433.7 | K36: 7743879 | M36: =SUM(K36:L36) -> 7743879 | N36: 4157286 | P36: =SUM(N36:O36) -> 4157286 | Q36: =J36+M36+P36 -> 12919599
A37: 29 | B37: 021424 | C37: ГБУЗ РБ ГБ г.Салават | Q37: =J37+M37+P37 -> 0
A38: 30 | B38: 021105 | C38: ГБУЗ РБ Исянгуловская ЦРБ | Q38: =J38+M38+P38 -> 0
A39: 31 | B39: 029001 | C39: ГБУЗ РБ Ишимбайская ЦРБ | Q39: =J39+M39+P39 -> 0
A40: 32 | B40: 021605 | C40: ГБУЗ РБ Красноусольская ЦРБ | Q40: =J40+M40+P40 -> 0
A41: 33 | B41: 021104 | C41: ГБУЗ РБ Мелеузовская ЦРБ | D41: 717473.2 | F41: =SUM(D41:E41) -> 717473.2 | G41: 288675 | I41: =SUM(G41:H41) -> 288675 | J41: =F41+I41 -> 1006148.2 | K41: 17036534 | M41: =SUM(K41:L41) -> 17036534 | Q41: =J41+M41+P41 -> 18042682
A42: 34 | B42: 021102 | C42: ГБУЗ РБ Мраковская ЦРБ | D42: 716981.78 | F42: =SUM(D42:E42) -> 716981.78 | G42: 203227.2 | I42: =SUM(G42:H42) -> 203227.2 | J42: =F42+I42 -> 920208.98 | N42: 2771524 | P42: =SUM(N42:O42) -> 2771524 | Q42: =J42+M42+P42 -> 3691733
A43: 35 | B43: 021606 | C43: ГБУЗ РБ Стерлибашевская ЦРБ | Q43: =J43+M43+P43 -> 0
A44: 36 | B44: 021607 | C44: ГБУЗ РБ Толбазинская ЦРБ | Q44: =J44+M44+P44 -> 0
A45: 37 | B45: 021405 | C45: ГБУЗ РБ Федоровская ЦРБ | Q45: =J45+M45+P45 -> 0
A46: 38 | B46: 021401 | C46: ООО "Медсервис" г.Салават | Q46: =J46+M46+P46 -> 0
A47: 39 | B47: 021303 | C47: ГБУЗ РБ ГБ №1 г.Октябрьский | Q47: =J47+M47+P47 -> 0
A48: 40 | B48: 028004 | C48: ГБУЗ РБ Бакалинская ЦРБ | D48: 628526.18 | F48: =SUM(D48:E48) -> 628526.18 | G48: 203227.2 | I48: =SUM(G48:H48) -> 203227.2 | J48: =F48+I48 -> 831753.38 | N48: 2771524 | P48: =SUM(N48:O48) -> 2771524 | Q48: =J48+M48+P48 -> 3603277.4
A49: 41 | B49: 023002 | C49: ГБУЗ РБ Белебеевская ЦРБ | Q49: =J49+M49+P49 -> 0
A50: 42 | B50: 023005 | C50: ГБУЗ РБ Бижбулякская ЦРБ | Q50: =J50+M50+P50 -> 0
A51: 43 | B51: 022002 | C51: ГБУЗ РБ Буздякская ЦРБ | Q51: =J51+M51+P51 -> 0
A52: 87 | B52: 028002 | C52: ГБУЗ РБ Верхнеяркеевская ЦРБ | D52: 717473.2 | F52: =SUM(D52:E52) -> 717473.2 | G52: 288675 | I52: =SUM(G52:H52) -> 288675 | J52: =F52+I52 -> 1006148.2 | K52: 17036534 | M52: =SUM(K52:L52) -> 17036534 | Q52: =J52+M52+P52 -> 18042682
A53: 44 | B53: 021002 | C53: ГБУЗ РБ Давлекановская ЦРБ | Q53: =J53+M53+P53 -> 0
A54: 45 | B54: 023006 | C54: ГБУЗ РБ Ермекеевская ЦРБ | Q54: =J54+M54+P54 -> 0
A55: 46 | B55: 021001 | C55: ГБУЗ РБ Миякинская ЦРБ | Q55: =J55+M55+P55 -> 0
A56: 47 | B56: 021003 | C56: ГБУЗ РБ Раевская ЦРБ | Q56: =J56+M56+P56 -> 0
A57: 48 | B57: 021701 | C57: ГБУЗ РБ Туймазинская ЦРБ | Q57: =J57+M57+P57 -> 0
A58: 49 | B58: 027002 | C58: ГБУЗ РБ Чекмагушевская ЦРБ | D58: 716981.78 | F58: =SUM(D58:E58) -> 716981.78 | G58: 203227.2 | I58: =SUM(G58:H58) -> 203227.2 | J58: =F58+I58 -> 920208.98 | N58: 2771524 | P58: =SUM(N58:O58) -> 2771524 | Q58: =J58+M58+P58 -> 3691733
A59: 95 | B59: 021706 | C59: ГБУЗ РБ Шаранская ЦРБ | Q59: =J59+M59+P59 -> 0
A60: 50 | B60: 022003 | C60: ГБУЗ РБ Языковская ЦРБ | D60: 328759.98 | F60: =SUM(D60:E60) -> 328759.98 | I60: =SUM(G60:H60) -> 0 | J60: =F60+I60 -> 328759.98 | N60: 2771524 | P60: =SUM(N60:O60) -> 2771524 | Q60: =J60+M60+P60 -> 3100284
A61: 97 | B61: 021322 | C61: ООО "ОСЦ" | Q61: =J61+M61+P61 -> 0
A62: 51 | B62: 029179 | C62: ГАУЗ РБ Санаторий "Дуслык" г.Уфа | Q62: =J62+M62+P62 -> 0
A63: 52 | B63: 021110 | C63: ГБУЗ РБ Детская поликлиника №2 г.Уфа | Q63: =J63+M63+P63 -> 0
A64: 53 | B64: 021100 | C64: ГБУЗ РБ Детская поликлиника №3 г.Уфа | Q64: =J64+M64+P64 -> 0
A65: 54 | B65: 027000 | C65: ГБУЗ РБ Детская поликлиника №4 г.Уфа | Q65: =J65+M65+P65 -> 0
A66: 55 | B66: 021120 | C66: ГБУЗ РБ Детская поликлиника №5 г.Уфа | Q66: =J66+M66+P66 -> 0
A67: 56 | B67: 021130 | C67: ГБУЗ РБ Детская поликлиника №6 г.Уфа | Q67: =J67+M67+P67 -> 0
A68: 57 | B68: 021140 | C68: ГАУЗ РБ Детская стоматологическая поликлиника №3 г.Уфа | Q68: =J68+M68+P68 -> 0
A69: 58 | B69: 021150 | C69: ГБУЗ РБ Детская стоматологическая поликлиника №7 г.Уфа | Q69: =J69+M69+P69 -> 0
A70: 59 | B70: 029100 | C70: ГБУЗ РБ Поликлиника №43 г.Уфа | Q70: =J70+M70+P70 -> 0
A71: 60 | B71: 029300 | C71: ГБУЗ РБ Поликлиника №46 г.Уфа | Q71: =J71+M71+P71 -> 0
A72: 61 | B72: 029700 | C72: ГБУЗ РБ Поликлиника №50 г.Уфа | Q72: =J72+M72+P72 -> 0
... A89: 78 | B89: 022800 | C89: ФГБОУ ВО БГМУ Минздрава России всего, в том числе: | Q89: =J89+M89+P89 -> 0
C90: ФГБОУ ВО БГМУ Минздрава России (без стоматологии, офтальмологии для отдельных структурных подразделений) | Q90: =J90+M90+P90 -> 0
C91: ФГБОУ ВО БГМУ Минздрава России (стоматология) | Q91: =J91+M91+P91 -> 0
C92: ФГБОУ ВО БГМУ Минздрава России (офтальмология для отдельных структурных подразделений) | Q92: =J92+M92+P92 -> 0
A93: 79 | B93: 025000 | C93: ФКУЗ "МСЧ МВД России по Республике Башкортостан" | Q93: =J93+M93+P93 -> 0
A94: 80 | B94: 020171 | C94: УФИЦ РАН | Q94: =J94+M94+P94 -> 0
A95: 81 | B95: 022117 | C95: ЧУЗ "КБ "РЖД-Медицина"г.Уфа | Q95: =J95+M95+P95 -> 0
A96: 82 | B96: 022204 | C96: ГБУЗ РБ Архангельская ЦРБ | D96: 289446.38 | F96: =SUM(D96:E96) -> 289446.38 | G96: 203227.2 | I96: =SUM(G96:H96) -> 203227.2 | J96: =F96+I96 -> 492673.58 | K96: =12906465-57883.54-1678622.66 -> 11169959 | M96: =SUM(K96:L96) -> 11169959 | Q96: =J96+M96+P96 -> 11662632
A97: 83 | B97: 026005 | C97: ГБУЗ РБ Белокатайская ЦРБ | D97: 716981.78 | F97: =SUM(D97:E97) -> 716981.78 | G97: 203227.2 | I97: =SUM(G97:H97) -> 203227.2 | J97: =F97+I97 -> 920208.98 | Q97: =J97+M97+P97 -> 920208.98
A98: 84 | B98: 022202 | C98: ГБУЗ РБ Благовещенская ЦРБ | Q98: =J98+M98+P98 -> 0
A99: 85 | B99: 026002 | C99: ГБУЗ РБ Большеустьикинская ЦРБ | Q99: =J99+M99+P99 -> 0
A100: 86 | B100: 022201 | C100: ГБУЗ РБ Иглинская ЦРБ | Q100: =J100+M100+P100 -> 0
A101: 88 | B101: 022205 | C101: ГБУЗ РБ Кармаскалинская ЦРБ | D101: 368073.58 | F101: =SUM(D101:E101) -> 368073.58 | J101: =F101+I101 -> 368073.58 | Q101: =J101+M101+P101 -> 368073.58
A102: 89 | B102: 026004 | C102: ГБУЗ РБ Кигинская ЦРБ | D102: 629017.6 | F102: =SUM(D102:E102) -> 629017.6 | G102: 254034 | I102: =SUM(G102:H102) -> 254034 | J102: =F102+I102 -> 883051.6 | K102: 17036534 | M102: =SUM(K102:L102) -> 17036534 | Q102: =J102+M102+P102 -> 17919585
A103: 90 | B103: 022208 | C103: ГБУЗ РБ Кушнаренковская ЦРБ | Q103: =J103+M103+P103 -> 0
A104: 91 | B104: 026003 | C104: ГБУЗ РБ Малоязовская ЦРБ | Q104: =J104+M104+P104 -> 0
A105: 92 | B105: 026001 | C105: ГБУЗ РБ Месягутовская ЦРБ | Q105: =J105+M105+P105 -> 0
A106: 93 | B106: 022203 | C106: ГБУЗ РБ Нуримановская ЦРБ | Q106: =J106+M106+P106 -> 0
A107: 94 | B107: 022000 | C107: ГБУЗ РБ Чишминская ЦРБ | Q107: =J107+M107+P107 -> 0
A108: 96 | B108: 020251 | C108: ООО "МЦ "Агидель" | Q108: =J108+M108+P108 -> 0
A109: 98 | B109: 020169 | C109: ООО "АНЭКО" | Q109: =J109+M109+P109 -> 0
A110: 99 | B110: 020235 | C110: ООО "Евромед-Уфа" | Q110: =J110+M110+P110 -> 0
A111: 100 | B111: 020232 | C111: ООО "Клиника глазных болезней" | Q111: =J111+M111+P111 -> 0
A112: 101 | B112: 020241 | C112: ООО "Клиника современной флебологии" | Q112: =J112+M112+P112 -> 0
A113: 102 | B113: 020181 | C113: ООО "Клиника Эксперт Уфа" | Q113: =J113+M113+P113 -> 0
A114: 103 | B114: 029140 | C114: ООО "Лаборатория гемодиализа" | Q114: =J114+M114+P114 -> 0
... A140: 129 | B140: 020005 | C140: ГБУЗ РКНД Минздрава РБ | Q140: =J140+M140+P140 -> 0
A141: 130 | B141: 020006 | C141: ГБУЗ РКПЦ Минздрава РБ | E141: 37576431 | F141: =SUM(D141:E141) -> 37576431 | H141: 14022051 | I141: =SUM(G141:H141) -> 14022051 | J141: =F141+I141 -> 51598482 | L141: 313120080 | M141: =SUM(K141:L141) -> 313120080 | O141: 52936108 | P141: =SUM(N141:O141) -> 52936108 | Q141: =J141+M141+P141 -> 4.1765467e+08
A142: 131 | B142: 020007 | C142: ГБУЗ РКФПЦ | Q142: =J142+M142+P142 -> 0
...

Sheet Наркология
A1: Плановые объемы финансового обеспечения по комплексу процессных мероприятий «Организация медицинской помощи по профилю «Наркология»» на 2026 год.
A3: № п/п | B3: Реестро-вый номер | C3: Наименование медицинской организации | D3: в амбулаторных условиях | K3: в условиях круглосуточных стационаров | O3: в условиях дневных стационаров | R3: ИТОГО
D4: Посещения с профилактическими и иными целями | G4: Обращения в связи с заболеваниями | J4: Всего
D5: Все МО, кроме ГБУЗ РКНД Минздрава РБ | E5: ГБУЗ РКНД Минздрава РБ (консультатив-ные посещения) | F5: Всего | G5: все МО, кроме ГБУЗ РКНД Минздрава РБ | H5: ГБУЗ РКНД Минздрава РБ | I5: Обращения в связи с заболеваниями всего | K5: все МО, кроме ГБУЗ РКНД Минздрава РБ | L5: ГБУЗ РКНД Минздрава РБ | M5: ГБУЗ РКНД Минздрава РБ (медицинская реабилитация) | N5: Всего | O5: все МО, кроме ГБУЗ РКНД Минздрава РБ | P5: ГБУЗ РКНД Минздрава РБ | Q5: Всего
A6: ВСЕГО | D6: =SUM(D7:D8) -> 1.3209791e+08 | E6: =SUM(E7:E8) -> 1.0804262e+08 | F6: =SUM(F7:F8) -> 2.4014125e+08 | G6: =SUM(G7:G8) -> 1.1558634e+08 | H6: =SUM(H7:H8) -> 91422891 | I6: =SUM(I7:I8) -> 2.0701012e+08 | J6: =SUM(J7:J8) -> 4.4715136e+08 | K6: =SUM(K7:K8) -> 2.7426012e+08 | ... R6: =SUM(R7:R8) -> 1.1976918e+09
A7: Медицинская помощь за пределами РБ | F7: 713.52 | I7: 885.45 | J7: =F7+I7 -> 1598.97 | L7: 1788.37 | M7: 63.87 | N7: =SUM(K7:M7)+1947.29+5234076.2 -> 5237875.7 | Q7: 60.47 | R7: =J7+N7+Q7 -> 5239535.2
A8: Итого по МО | D8: =SUM(D9:D146)-D89 -> 1.3209791e+08 | E8: =SUM(E9:E146)-E89 -> 1.0804262e+08 | F8: =SUM(F9:F146)-F89 -> 2.4014053e+08 | G8: =SUM(G9:G146)-G89 -> 1.1558634e+08 | H8: =SUM(H9:H146)-H89 -> 91422891 | I8: =SUM(I9:I146)-I89 -> 2.0700923e+08 | J8: =SUM(J9:J146)-J89 -> 4.4714976e+08 | K8: =SUM(K9:K146)-K89 -> 2.7426012e+08 | ... R8: =SUM(R9:R146)-R89 -> 1.1924523e+09
A9: 1 | B9: 025004 | C9: ГБУЗ РБ Аскинская ЦРБ | D9: 882955.44 | F9: =SUM(D9:E9) -> 882955.44 | G9: 832188.64 | I9: =SUM(G9:H9) -> 832188.64 | J9: =F9+I9 -> 1715144.1 | R9: =J9+N9+Q9 -> 1715144.1
A10: 2 | B10: 022103 | C10: ГБУЗ РБ Балтачевская ЦРБ | D10: 903576.48 | F10: =SUM(D10:E10) -> 903576.48 | G10: 859091.29 | I10: =SUM(G10:H10) -> 859091.29 | J10: =F10+I10 -> 1762667.8 | R10: =J10+N10+Q10 -> 1762667.8
A11: 3 | B11: 025001 | C11: ГБУЗ РБ Бирская ЦРБ | D11: 3151738.5 | F11: =SUM(D11:E11) -> 3151738.5 | G11: 3852459.5 | I11: =SUM(G11:H11) -> 3852459.5 | J11: =F11+I11 -> 7004198 | K11: 14802817 | N11: =SUM(K11:M11) -> 14802817 | O11: 1740079.6 | Q11: =SUM(O11:P11) -> 1740079.6 | R11: =J11+N11+Q11 -> 23547095
A12: 4 | B12: 025005 | C12: ГБУЗ РБ Бураевская ЦРБ | D12: 1054485 | F12: =SUM(D12:E12) -> 1054485 | G12: 1160401 | I12: =SUM(G12:H12) -> 1160401 | J12: =F12+I12 -> 2214886 | R12: =J12+N12+Q12 -> 2214886
A13: 5 | B13: 022102 | C13: ГБУЗ РБ Верхне-Татышлинская ЦРБ | D13: 1051204.4 | F13: =SUM(D13:E13) -> 1051204.4 | G13: 1217793.3 | I13: =SUM(G13:H13) -> 1217793.3 | J13: =F13+I13 -> 2268997.7 | R13: =J13+N13+Q13 -> 2268997.7
A14: 6 | B14: 021201 | C14: ГБУЗ РБ ГБ г.Нефтекамск | D14: 9451466.2 | F14: =SUM(D14:E14) -> 9451466.2 | G14: 3136849 | I14: =SUM(G14:H14) -> 3136849 | J14: =F14+I14 -> 12588315 | K14: 35169698 | N14: =SUM(K14:M14) -> 35169698 | O14: 1242914 | Q14: =SUM(O14:P14) -> 1242914 | R14: =J14+N14+Q14 -> 49000927
A15: 7 | B15: 027001 | C15: ГБУЗ РБ Дюртюлинская ЦРБ | D15: 3011140.5 | F15: =SUM(D15:E15) -> 3011140.5 | G15: 805285.99 | I15: =SUM(G15:H15) -> 805285.99 | J15: =F15+I15 -> 3816426.5 | R15: =J15+N15+Q15 -> 3816426.5
A16: 8 | B16: 021206 | C16: ГБУЗ РБ Калтасинская ЦРБ | D16: 1068076.1 | F16: =SUM(D16:E16) -> 1068076.1 | G16: 756861.22 | I16: =SUM(G16:H16) -> 756861.22 | J16: =F16+I16 -> 1824937.4 | R16: =J16+N16+Q16 -> 1824937.4
A17: 9 | B17: 025003 | C17: ГБУЗ РБ Караидельская ЦРБ | D17: 1168838 | F17: =SUM(D17:E17) -> 1168838 | G17: 1775574.9 | I17: =SUM(G17:H17) -> 1775574.9 | J17: =F17+I17 -> 2944412.9 | K17: 5553110.2 | N17: =SUM(K17:M17) -> 5553110.2 | R17: =J17+N17+Q17 -> 8497523.1
A18: 10 | B18: 021205 | C18: ГБУЗ РБ Краснокамская ЦРБ | R18: =J18+N18+Q18 -> 0
A19: 11 | B19: 025002 | C19: ГБУЗ РБ Мишкинская ЦРБ | D19: 1045111.8 | F19: =SUM(D19:E19) -> 1045111.8 | G19: 1097628.1 | I19: =SUM(G19:H19) -> 1097628.1 | J19: =F19+I19 -> 2142739.9 | R19: =J19+N19+Q19 -> 2142739.9
A20: 12 | B20: 022104 | C20: ГБУЗ РБ Янаульская ЦРБ | D20: 2161928.6 | F20: =SUM(D20:E20) -> 2161928.6 | G20: 1488613.3 | I20: =SUM(G20:H20) -> 1488613.3 | J20: =F20+I20 -> 3650541.9 | R20: =J20+N20+Q20 -> 3650541.9
A21: 13 | B21: 020163 | C21: ООО "АВИЦЕННА" г.Нефтекамск | R21: =J21+N21+Q21 -> 0
A22: 14 | B22: 021501 | C22: ГБУЗ РБ Акъярская ЦРБ | D22: 1482840.2 | F22: =SUM(D22:E22) -> 1482840.2 | G22: 615173.93 | I22: =SUM(G22:H22) -> 615173.93 | J22: =F22+I22 -> 2098014.2 | R22: =J22+N22+Q22 -> 2098014.2
A23: 15 | B23: 024001 | C23: ГБУЗ РБ Аскаровская ЦРБ | D23: 2253317.3 | F23: =SUM(D23:E23) -> 2253317.3 | G23: 1461710.6 | I23: =SUM(G23:H23) -> 1461710.6 | J23: =F23+I23 -> 3715027.9 | K23: 5553110.2 | N23: =SUM(K23:M23) -> 5553110.2 | R23: =J23+N23+Q23 -> 9268138.1
A24: 16 | B24: 022001 | C24: ГБУЗ РБ Баймакская ЦГБ | D24: 2719165.3 | F24: =SUM(D24:E24) -> 2719165.3 | G24: 1092247.6 | I24: =SUM(G24:H24) -> 1092247.6 | J24: =F24+I24 -> 3811412.9 | K24: 12957257 | N24: =SUM(K24:M24) -> 12957257 | R24: =J24+N24+Q24 -> 16768670
A25: 17 | B25: 024005 | C25: ГБУЗ РБ Белорецкая ЦРКБ | D25: 4920461.3 | F25: =SUM(D25:E25) -> 4920461.3 | G25: 8974724 | I25: =SUM(G25:H25) -> 8974724 | J25: =F25+I25 -> 13895185 | K25: 18510367 | N25: =SUM(K25:M25) -> 18510367 | R25: =J25+N25+Q25 -> 32405553
A26: 18 | B26: 024002 | C26: ГБУЗ РБ Бурзянская ЦРБ | D26: 876394.2 | F26: =SUM(D26:E26) -> 876394.2 | G26: 1122737.3 | I26: =SUM(G26:H26) -> 1122737.3 | J26: =F26+I26 -> 1999131.5 | R26: =J26+N26+Q26 -> 1999131.5
A27: 19 | B27: 022012 | C27: ГБУЗ РБ Зилаирская ЦРБ | D27: 723611.04 | F27: =SUM(D27:E27) -> 723611.04 | G27: 762241.75 | I27: =SUM(G27:H27) -> 762241.75 | J27: =F27+I27 -> 1485852.8 | R27: =J27+N27+Q27 -> 1485852.8
A28: 20 | B28: 021901 | C28: ГБУЗ РБ Учалинская ЦГБ | D28: 3504639.5 | F28: =SUM(D28:E28) -> 3504639.5 | G28: 1461710.6 | I28: =SUM(G28:H28) -> 1461710.6 | J28: =F28+I28 -> 4966350.1 | K28: 6160995 | N28: =SUM(K28:M28) -> 6160995 | R28: =J28+N28+Q28 -> 11127345
A29: 21 | B29: 021502 | C29: ГБУЗ РБ ЦГБ г.Сибай | D29: 2890694.9 | F29: =SUM(D29:E29) -> 2890694.9 | G29: 1092247.6 | I29: =SUM(G29:H29) -> 1092247.6 | J29: =F29+I29 -> 3982942.5 | K29: 7404146.9 | N29: =SUM(K29:M29) -> 7404146.9 | R29: =J29+N29+Q29 -> 11387089
A30: 22 | B30: 024006 | C30: ФГБУЗ МСЧ №142 ФМБА России | R30: =J30+N30+Q30 -> 0
A31: 23 | B31: 021536 | C31: ООО "МедТех" | R31: =J31+N31+Q31 -> 0
A32: 24 | B32: 021621 | C32: ГАУЗ РБ "Санаторий для детей Нур г.Стерлитамак" | R32: =J32+N32+Q32 -> 0
A33: 25 | B33: 021601 | C33: ГБУЗ РБ ГКБ №1 г.Стерлитамак | D33: 2458121.7 | F33: =SUM(D33:E33) -> 2458121.7 | G33: 1716389.1 | I33: =SUM(G33:H33) -> 1716389.1 | J33: =F33+I33 -> 4174510.8 | R33: =J33+N33+Q33 -> 4174510.8
A34: 26 | B34: 021616 | C34: ГБУЗ РБ ДБ г.Стерлитамак | R34: =J34+N34+Q34 -> 0
A35: 27 | B35: 021636 | C35: ГБУЗ РБ СП г.Стерлитамак | R35: =J35+N35+Q35 -> 0
A36: 28 | B36: 021111 | C36: ГБУЗ РБ ГБ г.Кумертау | D36: 4174354.6 | F36: =SUM(D36:E36) -> 4174354.6 | G36: 4932152.5 | I36: =SUM(G36:H36) -> 4932152.5 | J36: =F36+I36 -> 9106507.1 | K36: 16659330 | N36: =SUM(K36:M36) -> 16659330 | R36: =J36+N36+Q36 -> 25765838
A37: 29 | B37: 021424 | C37: ГБУЗ РБ ГБ г.Салават | D37: 7491998.8 | F37: =SUM(D37:E37) -> 7491998.8 | G37: 3820176.3 | I37: =SUM(G37:H37) -> 3820176.3 | J37: =F37+I37 -> 11312175 | K37: 22831278 | N37: =SUM(K37:M37) -> 22831278 | O37: 2237245.2 | Q37: =SUM(O37:P37) -> 2237245.2 | R37: =J37+N37+Q37 -> 36380699
A38: 30 | B38: 021105 | C38: ГБУЗ РБ Исянгуловская ЦРБ | D38: 1186647.1 | F38: =SUM(D38:E38) -> 1186647.1 | G38: 1228554.4 | I38: =SUM(G38:H38) -> 1228554.4 | J38: =F38+I38 -> 2415201.5 | K38: 4309958.3 | N38: =SUM(K38:M38) -> 4309958.3 | R38: =J38+N38+Q38 -> 6725159.8
A39: 31 | B39: 029001 | C39: ГБУЗ РБ Ишимбайская ЦРБ | D39: 4231531.1 | F39: =SUM(D39:E39) -> 4231531.1 | G39: 1897533.6 | I39: =SUM(G39:H39) -> 1897533.6 | J39: =F39+I39 -> 6129064.7 | K39: 11106220 | N39: =SUM(K39:M39) -> 11106220 | O39: 1491496.8 | Q39: =SUM(O39:P39) -> 1491496.8 | R39: =J39+N39+Q39 -> 18726782
A40: 32 | B40: 021605 | C40: ГБУЗ РБ Красноусольская ЦРБ | D40: 1497368.7 | F40: =SUM(D40:E40) -> 1497368.7 | G40: 2028459.8 | I40: =SUM(G40:H40) -> 2028459.8 | J40: =F40+I40 -> 3525828.5 | K40: 5564063 | N40: =SUM(K40:M40) -> 5564063 | R40: =J40+N40+Q40 -> 9089891.6
A41: 33 | B41: 021104 | C41: ГБУЗ РБ Мелеузовская ЦРБ | D41: 4085309.2 | F41: =SUM(D41:E41) -> 4085309.2 | G41: 5595751.2 | I41: =SUM(G41:H41) -> 5595751.2 | J41: =F41+I41 -> 9681060.4 | K41: 10180702 | N41: =SUM(K41:M41) -> 10180702 | R41: =J41+N41+Q41 -> 19861762
A42: 34 | B42: 021102 | C42: ГБУЗ РБ Мраковская ЦРБ | D42: 1338024.3 | F42: =SUM(D42:E42) -> 1338024.3 | G42: 1377415.7 | I42: =SUM(G42:H42) -> 1377415.7 | J42: =F42+I42 -> 2715440 | R42: =J42+N42+Q42 -> 2715440
A43: 35 | B43: 021606 | C43: ГБУЗ РБ Стерлибашевская ЦРБ | D43: 829059.54 | F43: =SUM(D43:E43) -> 829059.54 | G43: 677946.78 | I43: =SUM(G43:H43) -> 677946.78 | J43: =F43+I43 -> 1507006.3 | R43: =J43+N43+Q43 -> 1507006.3
A44: 36 | B44: 021607 | C44: ГБУЗ РБ Толбазинская ЦРБ | D44: 1508147.9 | F44: =SUM(D44:E44) -> 1508147.9 | G44: 1377415.7 | I44: =SUM(G44:H44) -> 1377415.7 | J44: =F44+I44 -> 2885563.6 | R44: =J44+N44+Q44 -> 2885563.6
A45: 37 | B45: 021405 | C45: ГБУЗ РБ Федоровская ЦРБ | D45: 777975.6 | F45: =SUM(D45:E45) -> 777975.6 | G45: 1059964.4 | I45: =SUM(G45:H45) -> 1059964.4 | J45: =F45+I45 -> 1837940 | R45: =J45+N45+Q45 -> 1837940
A46: 38 | B46: 021401 | C46: ООО "Медсервис" г.Салават | R46: =J46+N46+Q46 -> 0
A47: 39 | B47: 021303 | C47: ГБУЗ РБ ГБ №1 г.Октябрьский | D47: 6020875 | F47: =SUM(D47:E47) -> 6020875 | G47: 5468412 | I47: =SUM(G47:H47) -> 5468412 | J47: =F47+I47 -> 11489287 | K47: 15733812 | N47: =SUM(K47:M47) -> 15733812 | R47: =J47+N47+Q47 -> 27223099
A48: 40 | B48: 028004 | C48: ГБУЗ РБ Бакалинская ЦРБ | D48: 1261164.1 | F48: =SUM(D48:E48) -> 1261164.1 | G48: 1393557.3 | I48: =SUM(G48:H48) -> 1393557.3 | J48: =F48+I48 -> 2654721.3 | R48: =J48+N48+Q48 -> 2654721.3
A49: 41 | B49: 023002 | C49: ГБУЗ РБ Белебеевская ЦРБ | D49: 4874064 | F49: =SUM(D49:E49) -> 4874064 | G49: 6973166.9 | I49: =SUM(G49:H49) -> 6973166.9 | J49: =F49+I49 -> 11847231 | K49: 17584849 | N49: =SUM(K49:M49) -> 17584849 | R49: =J49+N49+Q49 -> 29432080
A50: 42 | B50: 023005 | C50: ГБУЗ РБ Бижбулякская ЦРБ | D50: 1057297 | F50: =SUM(D50:E50) -> 1057297 | G50: 938005.73 | I50: =SUM(G50:H50) -> 938005.73 | J50: =F50+I50 -> 1995302.7 | R50: =J50+N50+Q50 -> 1995302.7
A51: 43 | B51: 022002 | C51: ГБУЗ РБ Буздякская ЦРБ | D51: 1293032.9 | F51: =SUM(D51:E51) -> 1293032.9 | G51: 2044601.4 | I51: =SUM(G51:H51) -> 2044601.4 | J51: =F51+I51 -> 3337634.3 | K51: 3702073.4 | N51: =SUM(K51:M51) -> 3702073.4 | R51: =J51+N51+Q51 -> 7039707.8
A52: 87 | B52: 028002 | C52: ГБУЗ РБ Верхнеяркеевская ЦРБ | D52: 1551264.6 | F52: =SUM(D52:E52) -> 1551264.6 | G52: 916483.61 | I52: =SUM(G52:H52) -> 916483.61 | J52: =F52+I52 -> 2467748.2 | R52: =J52+N52+Q52 -> 2467748.2
A53: 44 | B53: 021002 | C53: ГБУЗ РБ Давлекановская ЦРБ | D53: 1811370.9 | F53: =SUM(D53:E53) -> 1811370.9 | G53: 3847079 | I53: =SUM(G53:H53) -> 3847079 | J53: =F53+I53 -> 5658449.8 | K53: 9255183.6 | N53: =SUM(K53:M53) -> 9255183.6 | R53: =J53+N53+Q53 -> 14913633
A54: 45 | B54: 023006 | C54: ГБУЗ РБ Ермекеевская ЦРБ | D54: 720799.08 | F54: =SUM(D54:E54) -> 720799.08 | G54: 539846.51 | I54: =SUM(G54:H54) -> 539846.51 | J54: =F54+I54 -> 1260645.6 | R54: =J54+N54+Q54 -> 1260645.6
A55: 46 | B55: 021001 | C55: ГБУЗ РБ Миякинская ЦРБ | D55: 1165557.4 | F55: =SUM(D55:E55) -> 1165557.4 | G55: 826808.11 | I55: =SUM(G55:H55) -> 826808.11 | J55: =F55+I55 -> 1992365.5 | R55: =J55+N55+Q55 -> 1992365.5
A56: 47 | B56: 021003 | C56: ГБУЗ РБ Раевская ЦРБ | D56: 1800123.1 | F56: =SUM(D56:E56) -> 1800123.1 | G56: 1642855.2 | I56: =SUM(G56:H56) -> 1642855.2 | J56: =F56+I56 -> 3442978.2 | R56: =J56+N56+Q56 -> 3442978.2
A57: 48 | B57: 021701 | C57: ГБУЗ РБ Туймазинская ЦРБ | D57: 6682154.3 | F57: =SUM(D57:E57) -> 6682154.3 | G57: 11021119 | I57: =SUM(G57:H57) -> 11021119 | J57: =F57+I57 -> 17703273 | K57: 23137959 | N57: =SUM(K57:M57) -> 23137959 | O57: 2237245.2 | Q57: =SUM(O57:P57) -> 2237245.2 | R57: =J57+N57+Q57 -> 43078477
A58: 49 | B58: 027002 | C58: ГБУЗ РБ Чекмагушевская ЦРБ | D58: 1417227.8 | F58: =SUM(D58:E58) -> 1417227.8 | G58: 1016920.2 | I58: =SUM(G58:H58) -> 1016920.2 | J58: =F58+I58 -> 2434148 | R58: =J58+N58+Q58 -> 2434148
A59: 95 | B59: 021706 | C59: ГБУЗ РБ Шаранская ЦРБ | D59: 950911.14 | F59: =SUM(D59:E59) -> 950911.14 | G59: 688707.84 | I59: =SUM(G59:H59) -> 688707.84 | J59: =F59+I59 -> 1639619 | R59: =J59+N59+Q59 -> 1639619
A60: 50 | B60: 022003 | C60: ГБУЗ РБ Языковская ЦРБ | D60: 1212892.1 | F60: =SUM(D60:E60) -> 1212892.1 | G60: 1228554.4 | I60: =SUM(G60:H60) -> 1228554.4 | J60: =F60+I60 -> 2441446.4 | R60: =J60+N60+Q60 -> 2441446.4
A61: 97 | B61: 021322 | C61: ООО "ОСЦ" | R61: =J61+N61+Q61 -> 0
A62: 51 | B62: 029179 | C62: ГАУЗ РБ Санаторий "Дуслык" г.Уфа | R62: =J62+N62+Q62 -> 0
A63: 52 | B63: 021110 | C63: ГБУЗ РБ Детская поликлиника №2 г.Уфа | R63: =J63+N63+Q63 -> 0
A64: 53 | B64: 021100 | C64: ГБУЗ РБ Детская поликлиника №3 г.Уфа | R64: =J64+N64+Q64 -> 0
A65: 54 | B65: 027000 | C65: ГБУЗ РБ Детская поликлиника №4 г.Уфа | R65: =J65+N65+Q65 -> 0
A66: 55 | B66: 021120 | C66: ГБУЗ РБ Детская поликлиника №5 г.Уфа | R66: =J66+N66+Q66 -> 0
A67: 56 | B67: 021130 | C67: ГБУЗ РБ Детская поликлиника №6 г.Уфа | R67: =J67+N67+Q67 -> 0
A68: 57 | B68: 021140 | C68: ГАУЗ РБ Детская стоматологическая поликлиника №3 г.Уфа | R68: =J68+N68+Q68 -> 0
A69: 58 | B69: 021150 | C69: ГБУЗ РБ Детская стоматологическая поликлиника №7 г.Уфа | R69: =J69+N69+Q69 -> 0
A70: 59 | B70: 029100 | C70: ГБУЗ РБ Поликлиника №43 г.Уфа | R70: =J70+N70+Q70 -> 0
A71: 60 | B71: 029300 | C71: ГБУЗ РБ Поликлиника №46 г.Уфа | R71: =J71+N71+Q71 -> 0
A72: 61 | B72: 029700 | C72: ГБУЗ РБ Поликлиника №50 г.Уфа | R72: =J72+N72+Q72 -> 0
... A89: 78 | B89: 022800 | C89: ФГБОУ ВО БГМУ Минздрава России всего, в том числе: | R89: =J89+N89+Q89 -> 0
C90: ФГБОУ ВО БГМУ Минздрава России (без стоматологии, офтальмологии для отдельных структурных подразделений) | R90: =J90+N90+Q90 -> 0
C91: ФГБОУ ВО БГМУ Минздрава России (стоматология) | R91: =J91+N91+Q91 -> 0
C92: ФГБОУ ВО БГМУ Минздрава России (офтальмология для отдельных структурных подразделений) | R92: =J92+N92+Q92 -> 0
A93: 79 | B93: 025000 | C93: ФКУЗ "МСЧ МВД России по Республике Башкортостан" | R93: =J93+N93+Q93 -> 0
A94: 80 | B94: 020171 | C94: УФИЦ РАН | R94: =J94+N94+Q94 -> 0
A95: 81 | B95: 022117 | C95: ЧУЗ "КБ "РЖД-Медицина"г.Уфа | R95: =J95+N95+Q95 -> 0
A96: 82 | B96: 022204 | C96: ГБУЗ РБ Архангельская ЦРБ | D96: 846399.96 | F96: =SUM(D96:E96) -> 846399.96 | G96: 1065344.9 | I96: =SUM(G96:H96) -> 1065344.9 | J96: =F96+I96 -> 1911744.9 | R96: =J96+N96+Q96 -> 1911744.9
A97: 83 | B97: 026005 | C97: ГБУЗ РБ Белокатайская ЦРБ | D97: 881549.46 | F97: =SUM(D97:E97) -> 881549.46 | G97: 523704.92 | I97: =SUM(G97:H97) -> 523704.92 | J97: =F97+I97 -> 1405254.4 | R97: =J97+N97+Q97 -> 1405254.4
A98: 84 | B98: 022202 | C98: ГБУЗ РБ Благовещенская ЦРБ | D98: 2492802.5 | F98: =SUM(D98:E98) -> 2492802.5 | G98: 2548577.7 | I98: =SUM(G98:H98) -> 2548577.7 | J98: =F98+I98 -> 5041380.2 | R98: =J98+N98+Q98 -> 5041380.2
A99: 85 | B99: 026002 | C99: ГБУЗ РБ Большеустьикинская ЦРБ | D99: 1103694.3 | F99: =SUM(D99:E99) -> 1103694.3 | G99: 1027681.2 | I99: =SUM(G99:H99) -> 1027681.2 | J99: =F99+I99 -> 2131375.5 | R99: =J99+N99+Q99 -> 2131375.5
A100: 86 | B100: 022201 | C100: ГБУЗ РБ Иглинская ЦРБ | D100: 3706163.3 | F100: =SUM(D100:E100) -> 3706163.3 | G100: 1334371.4 | I100: =SUM(G100:H100) -> 1334371.4 | J100: =F100+I100 -> 5040534.7 | R100: =J100+N100+Q100 -> 5040534.7
A101: 88 | B101: 022205 | C101: ГБУЗ РБ Кармаскалинская ЦРБ | D101: 2639024.5 | F101: =SUM(D101:E101) -> 2639024.5 | G101: 1632094.1 | I101: =SUM(G101:H101) -> 1632094.1 | J101: =F101+I101 -> 4271118.6 | R101: =J101+N101+Q101 -> 4271118.6
A102: 89 | B102: 026004 | C102: ГБУЗ РБ Кигинская ЦРБ | D102: 829059.54 | F102: =SUM(D102:E102) -> 829059.54 | G102: 959527.85 | I102: =SUM(G102:H102) -> 959527.85 | J102: =F102+I102 -> 1788587.4 | K102: 6796262 | N102: =SUM(K102:M102) -> 6796262 | R102: =J102+N102+Q102 -> 8584849.4
A103: 90 | B103: 022208 | C103: ГБУЗ РБ Кушнаренковская ЦРБ | D103: 1347397.5 | F103: =SUM(D103:E103) -> 1347397.5 | G103: 981049.97 | I103: =SUM(G103:H103) -> 981049.97 | J103: =F103+I103 -> 2328447.5 | R103: =J103+N103+Q103 -> 2328447.5
A104: 91 | B104: 026003 | C104: ГБУЗ РБ Малоязовская ЦРБ | D104: 1180554.5 | F104: =SUM(D104:E104) -> 1180554.5 | G104: 1212412.8 | I104: =SUM(G104:H104) -> 1212412.8 | J104: =F104+I104 -> 2392967.3 | R104: =J104+N104+Q104 -> 2392967.3
A105: 92 | B105: 026001 | C105: ГБУЗ РБ Месягутовская ЦРБ | D105: 1577040.9 | F105: =SUM(D105:E105) -> 1577040.9 | G105: 1372035.1 | I105: =SUM(G105:H105) -> 1372035.1 | J105: =F105+I105 -> 2949076 | K105: 11106220 | N105: =SUM(K105:M105) -> 11106220 | R105: =J105+N105+Q105 -> 14055296
A106: 93 | B106: 022203 | C106: ГБУЗ РБ Нуримановская ЦРБ | D106: 1015586.2 | F106: =SUM(D106:E106) -> 1015586.2 | G106: 873439.37 | I106: =SUM(G106:H106) -> 873439.37 | J106: =F106+I106 -> 1889025.6 | R106: =J106+N106+Q106 -> 1889025.6
A107: 94 | B107: 022000 | C107: ГБУЗ РБ Чишминская ЦРБ | D107: 2578098.7 | F107: =SUM(D107:E107) -> 2578098.7 | G107: 2399716.4 | I107: =SUM(G107:H107) -> 2399716.4 | J107: =F107+I107 -> 4977815 | K107: 10180702 | N107: =SUM(K107:M107) -> 10180702 | R107: =J107+N107+Q107 -> 15158517
A108: 96 | B108: 020251 | C108: ООО "МЦ "Агидель" | R108: =J108+N108+Q108 -> 0
A109: 98 | B109: 020169 | C109: ООО "АНЭКО" | R109: =J109+N109+Q109 -> 0
A110: 99 | B110: 020235 | C110: ООО "Евромед-Уфа" | R110: =J110+N110+Q110 -> 0
A111: 100 | B111: 020232 | C111: ООО "Клиника глазных болезней" | R111: =J111+N111+Q111 -> 0
A112: 101 | B112: 020241 | C112: ООО "Клиника современной флебологии" | R112: =J112+N112+Q112 -> 0
A113: 102 | B113: 020181 | C113: ООО "Клиника Эксперт Уфа" | R113: =J113+N113+Q113 -> 0
A114: 103 | B114: 029140 | C114: ООО "Лаборатория гемодиализа" | R114: =J114+N114+Q114 -> 0
A115: 104 | B115: 029150 | C115: ООО "ЛДЦ МИБС-Уфа" | R115: =J115+N115+Q115 -> 0
A116: 105 | B116: 020188 | C116: ООО"МД Проект 2010" | R116: =J116+N116+Q116 -> 0
A117: 106 | B117: 020157 | C117: ООО "Медицинский центр Семья" | R117: =J117+N117+Q117 -> 0
...

Sheet Фтизиатрия
A1: Плановые объемы финансового обеспечения по комплексу процессных мероприятий «Оказание специализированной медицинской помощи больным биологически опасными инфекционными заболеваниями (туберкулез, ВИЧ-инфекция, вирусные гепатиты В и С)» на 2026 год.
A3: № п/п | B3: Реестро-вый номер | C3: Наименование медицинской организации | D3: в амбулаторных условиях | I3: в условиях круглосуточного стационара | J3: в условиях дневного стационара | K3: ИТОГО
D4: Посещения с профилактическими и иными целями | G4: Обращения в связи с заболеваниями | H4: Всего
D5: Посещения с профилактическими и иными целями | E5: ГБУЗ РКПТД (консультативные посещения) | F5: Посещения всего
A6: ВСЕГО | D6: =SUM(D7:D8) -> 3.0604238e+08 | E6: =SUM(E7:E8) -> 2.1500947e+08 | F6: =SUM(F7:F8) -> 5.2105519e+08 | G6: =SUM(G7:G8) -> 4.1116151e+08 | H6: =SUM(H7:H8) -> 9.3221669e+08 | I6: =SUM(I7:I8) -> 1.7184385e+09 | J6: =SUM(J7:J8) -> 42746894 | K6: =SUM(K7:K8) -> 2.6934021e+09
A7: Медицинская помощь за пределами РБ | F7: 3341.92 | G7: 1653.76 | H7: =SUM(F7:G7) -> 4995.68 | I7: 943.97 | J7: 157.17 | K7: =H7+I7+J7 -> 6096.82
A8: Итого по МО | D8: =SUM(D9:D146)-D89 -> 3.0604238e+08 | E8: =SUM(E9:E146)-E89 -> 2.1500947e+08 | F8: =SUM(F9:F146)-F89 -> 5.2105185e+08 | G8: =SUM(G9:G146)-G89 -> 4.1115985e+08 | H8: =SUM(H9:H146)-H89 -> 9.322117e+08 | I8: =SUM(I9:I146)-I89 -> 1.7184375e+09 | J8: =SUM(J9:J146)-J89 -> 42746737 | K8: =SUM(K9:K146)-K89 -> 2.693396e+09
A9: 1 | B9: 025004 | C9: ГБУЗ РБ Аскинская ЦРБ | D9: 1364038.5 | F9: =SUM(D9:E9) -> 1364038.5 | G9: 1035766 | H9: =SUM(F9:G9) -> 2399804.5 | K9: =H9+I9+J9 -> 2399804.5
A10: 2 | B10: 022103 | C10: ГБУЗ РБ Балтачевская ЦРБ | D10: 2612253.4 | F10: =SUM(D10:E10) -> 2612253.4 | G10: 1988670.7 | H10: =SUM(F10:G10) -> 4600924.1 | K10: =H10+I10+J10 -> 4600924.1
A11: 3 | B11: 025001 | C11: ГБУЗ РБ Бирская ЦРБ | K11: =H11+I11+J11 -> 0
A12: 4 | B12: 025005 | C12: ГБУЗ РБ Бураевская ЦРБ | D12: 1076872.5 | F12: =SUM(D12:E12) -> 1076872.5 | G12: 817710 | H12: =SUM(F12:G12) -> 1894582.5 | K12: =H12+I12+J12 -> 1894582.5
A13: 5 | B13: 022102 | C13: ГБУЗ РБ Верхне-Татышлинская ЦРБ | D13: 1435830 | F13: =SUM(D13:E13) -> 1435830 | G13: 1090280 | H13: =SUM(F13:G13) -> 2526110 | K13: =H13+I13+J13 -> 2526110
A14: 6 | B14: 021201 | C14: ГБУЗ РБ ГБ г.Нефтекамск | D14: 717915 | F14: =SUM(D14:E14) -> 717915 | G14: 545140 | H14: =SUM(F14:G14) -> 1263055 | K14: =H14+I14+J14 -> 1263055
A15: 7 | B15: 027001 | C15: ГБУЗ РБ Дюртюлинская ЦРБ | D15: 2692181.2 | F15: =SUM(D15:E15) -> 2692181.2 | G15: 2045365.3 | H15: =SUM(F15:G15) -> 4737546.5 | K15: =H15+I15+J15 -> 4737546.5
A16: 8 | B16: 021206 | C16: ГБУЗ РБ Калтасинская ЦРБ | D16: 1615308.8 | F16: =SUM(D16:E16) -> 1615308.8 | G16: 1225474.7 | H16: =SUM(F16:G16) -> 2840783.5 | K16: =H16+I16+J16 -> 2840783.5
A17: 9 | B17: 025003 | C17: ГБУЗ РБ Караидельская ЦРБ | D17: 1794787.5 | F17: =SUM(D17:E17) -> 1794787.5 | G17: 1362850 | H17: =SUM(F17:G17) -> 3157637.5 | K17: =H17+I17+J17 -> 3157637.5
A18: 10 | B18: 021205 | C18: ГБУЗ РБ Краснокамская ЦРБ | D18: 1256351.2 | F18: =SUM(D18:E18) -> 1256351.2 | G18: 955085.28 | H18: =SUM(F18:G18) -> 2211436.5 | K18: =H18+I18+J18 -> 2211436.5
A19: 11 | B19: 025002 | C19: ГБУЗ РБ Мишкинская ЦРБ | D19: 1635889 | F19: =SUM(D19:E19) -> 1635889 | G19: 1240738.6 | H19: =SUM(F19:G19) -> 2876627.6 | K19: =H19+I19+J19 -> 2876627.6
A20: 12 | B20: 022104 | C20: ГБУЗ РБ Янаульская ЦРБ | D20: 3122930.2 | F20: =SUM(D20:E20) -> 3122930.2 | G20: 2372449.3 | H20: =SUM(F20:G20) -> 5495379.5 | K20: =H20+I20+J20 -> 5495379.5
A21: 13 | B21: 020163 | C21: ООО "АВИЦЕННА" г.Нефтекамск | K21: =H21+I21+J21 -> 0
A22: 14 | B22: 021501 | C22: ГБУЗ РБ Акъярская ЦРБ | D22: 2189640.8 | F22: =SUM(D22:E22) -> 2189640.8 | G22: 1661586.7 | H22: =SUM(F22:G22) -> 3851227.5 | K22: =H22+I22+J22 -> 3851227.5
A23: 15 | B23: 024001 | C23: ГБУЗ РБ Аскаровская ЦРБ | D23: 2871660 | F23: =SUM(D23:E23) -> 2871660 | G23: 2180560 | H23: =SUM(F23:G23) -> 5052220 | K23: =H23+I23+J23 -> 5052220
A24: 16 | B24: 022001 | C24: ГБУЗ РБ Баймакская ЦГБ | D24: 3589575 | F24: =SUM(D24:E24) -> 3589575 | G24: 2725700 | H24: =SUM(F24:G24) -> 6315275 | K24: =H24+I24+J24 -> 6315275
A25: 17 | B25: 024005 | C25: ГБУЗ РБ Белорецкая ЦРКБ | K25: =H25+I25+J25 -> 0
A26: 18 | B26: 024002 | C26: ГБУЗ РБ Бурзянская ЦРБ | D26: 1076872.5 | F26: =SUM(D26:E26) -> 1076872.5 | G26: 817710 | H26: =SUM(F26:G26) -> 1894582.5 | K26: =H26+I26+J26 -> 1894582.5
A27: 19 | B27: 022012 | C27: ГБУЗ РБ Зилаирская ЦРБ | D27: 1076872.5 | F27: =SUM(D27:E27) -> 1076872.5 | G27: 817710 | H27: =SUM(F27:G27) -> 1894582.5 | K27: =H27+I27+J27 -> 1894582.5
A28: 20 | B28: 021901 | C28: ГБУЗ РБ Учалинская ЦГБ | D28: 2512702.5 | F28: =SUM(D28:E28) -> 2512702.5 | G28: 1907990 | H28: =SUM(F28:G28) -> 4420692.5 | K28: =H28+I28+J28 -> 4420692.5
A29: 21 | B29: 021502 | C29: ГБУЗ РБ ЦГБ г.Сибай | K29: =H29+I29+J29 -> 0
A30: 22 | B30: 024006 | C30: ФГБУЗ МСЧ №142 ФМБА России | K30: =H30+I30+J30 -> 0
A31: 23 | B31: 021536 | C31: ООО "МедТех" | K31: =H31+I31+J31 -> 0
A32: 24 | B32: 021621 | C32: ГАУЗ РБ "Санаторий для детей Нур г.Стерлитамак" | K32: =H32+I32+J32 -> 0
A33: 25 | B33: 021601 | C33: ГБУЗ РБ ГКБ №1 г.Стерлитамак | D33: 2692181.2 | F33: =SUM(D33:E33) -> 2692181.2 | G33: 2045365.3 | H33: =SUM(F33:G33) -> 4737546.5 | K33: =H33+I33+J33 -> 4737546.5
A34: 26 | B34: 021616 | C34: ГБУЗ РБ ДБ г.Стерлитамак | K34: =H34+I34+J34 -> 0
A35: 27 | B35: 021636 | C35: ГБУЗ РБ СП г.Стерлитамак | K35: =H35+I35+J35 -> 0
A36: 28 | B36: 021111 | C36: ГБУЗ РБ ГБ г.Кумертау | K36: =H36+I36+J36 -> 0
A37: 29 | B37: 021424 | C37: ГБУЗ РБ ГБ г.Салават | K37: =H37+I37+J37 -> 0
A38: 30 | B38: 021105 | C38: ГБУЗ РБ Исянгуловская ЦРБ | D38: 1794787.5 | F38: =SUM(D38:E38) -> 1794787.5 | G38: 1362850 | H38: =SUM(F38:G38) -> 3157637.5 | K38: =H38+I38+J38 -> 3157637.5
A39: 31 | B39: 029001 | C39: ГБУЗ РБ Ишимбайская ЦРБ | K39: =H39+I39+J39 -> 0
A40: 32 | B40: 021605 | C40: ГБУЗ РБ Красноусольская ЦРБ | D40: 1794787.5 | F40: =SUM(D40:E40) -> 1794787.5 | G40: 1362850 | H40: =SUM(F40:G40) -> 3157637.5 | K40: =H40+I40+J40 -> 3157637.5
A41: 33 | B41: 021104 | C41: ГБУЗ РБ Мелеузовская ЦРБ | D41: 5384362.5 | F41: =SUM(D41:E41) -> 5384362.5 | G41: 4088550 | H41: =SUM(F41:G41) -> 9472912.5 | K41: =H41+I41+J41 -> 9472912.5
A42: 34 | B42: 021102 | C42: ГБУЗ РБ Мраковская ЦРБ | D42: 1435830 | F42: =SUM(D42:E42) -> 1435830 | G42: 1090280 | H42: =SUM(F42:G42) -> 2526110 | K42: =H42+I42+J42 -> 2526110
A43: 35 | B43: 021606 | C43: ГБУЗ РБ Стерлибашевская ЦРБ | D43: 1292247 | F43: =SUM(D43:E43) -> 1292247 | G43: 981252 | H43: =SUM(F43:G43) -> 2273499 | K43: =H43+I43+J43 -> 2273499
A44: 36 | B44: 021607 | C44: ГБУЗ РБ Толбазинская ЦРБ | D44: 2405015.2 | F44: =SUM(D44:E44) -> 2405015.2 | G44: 1827309.3 | H44: =SUM(F44:G44) -> 4232324.5 | K44: =H44+I44+J44 -> 4232324.5
A45: 37 | B45: 021405 | C45: ГБУЗ РБ Федоровская ЦРБ | D45: 1349201.6 | F45: =SUM(D45:E45) -> 1349201.6 | G45: 1024863.2 | H45: =SUM(F45:G45) -> 2374064.8 | K45: =H45+I45+J45 -> 2374064.8
A46: 38 | B46: 021401 | C46: ООО "Медсервис" г.Салават | K46: =H46+I46+J46 -> 0
A47: 39 | B47: 021303 | C47: ГБУЗ РБ ГБ №1 г.Октябрьский | K47: =H47+I47+J47 -> 0
A48: 40 | B48: 028004 | C48: ГБУЗ РБ Бакалинская ЦРБ | D48: 1435830 | F48: =SUM(D48:E48) -> 1435830 | G48: 1090280 | H48: =SUM(F48:G48) -> 2526110 | K48: =H48+I48+J48 -> 2526110
A49: 41 | B49: 023002 | C49: ГБУЗ РБ Белебеевская ЦРБ | D49: 2871660 | F49: =SUM(D49:E49) -> 2871660 | G49: 2180560 | H49: =SUM(F49:G49) -> 5052220 | K49: =H49+I49+J49 -> 5052220
A50: 42 | B50: 023005 | C50: ГБУЗ РБ Бижбулякская ЦРБ | D50: 1615308.8 | F50: =SUM(D50:E50) -> 1615308.8 | G50: 1225474.7 | H50: =SUM(F50:G50) -> 2840783.5 | K50: =H50+I50+J50 -> 2840783.5
A51: 43 | B51: 022002 | C51: ГБУЗ РБ Буздякская ЦРБ | D51: 1794787.5 | F51: =SUM(D51:E51) -> 1794787.5 | G51: 1362850 | H51: =SUM(F51:G51) -> 3157637.5 | K51: =H51+I51+J51 -> 3157637.5
A52: 87 | B52: 028002 | C52: ГБУЗ РБ Верхнеяркеевская ЦРБ | D52: 1794787.5 | F52: =SUM(D52:E52) -> 1794787.5 | G52: 1362850 | H52: =SUM(F52:G52) -> 3157637.5 | K52: =H52+I52+J52 -> 3157637.5
A53: 44 | B53: 021002 | C53: ГБУЗ РБ Давлекановская ЦРБ | D53: 2692181.2 | F53: =SUM(D53:E53) -> 2692181.2 | G53: 2045365.3 | H53: =SUM(F53:G53) -> 4737546.5 | K53: =H53+I53+J53 -> 4737546.5
A54: 45 | B54: 023006 | C54: ГБУЗ РБ Ермекеевская ЦРБ | D54: 1076872.5 | F54: =SUM(D54:E54) -> 1076872.5 | G54: 817710 | H54: =SUM(F54:G54) -> 1894582.5 | K54: =H54+I54+J54 -> 1894582.5
A55: 46 | B55: 021001 | C55: ГБУЗ РБ Миякинская ЦРБ | D55: 1794787.5 | F55: =SUM(D55:E55) -> 1794787.5 | G55: 1362850 | H55: =SUM(F55:G55) -> 3157637.5 | K55: =H55+I55+J55 -> 3157637.5
A56: 47 | B56: 021003 | C56: ГБУЗ РБ Раевская ЦРБ | D56: 2799868.5 | F56: =SUM(D56:E56) -> 2799868.5 | G56: 2126046 | H56: =SUM(F56:G56) -> 4925914.5 | K56: =H56+I56+J56 -> 4925914.5
A57: 48 | B57: 021701 | C57: ГБУЗ РБ Туймазинская ЦРБ | D57: 5384362.5 | F57: =SUM(D57:E57) -> 5384362.5 | G57: 4088550 | H57: =SUM(F57:G57) -> 9472912.5 | K57: =H57+I57+J57 -> 9472912.5
A58: 49 | B58: 027002 | C58: ГБУЗ РБ Чекмагушевская ЦРБ | D58: 2010162 | F58: =SUM(D58:E58) -> 2010162 | G58: 1526392 | H58: =SUM(F58:G58) -> 3536554 | K58: =H58+I58+J58 -> 3536554
A59: 95 | B59: 021706 | C59: ГБУЗ РБ Шаранская ЦРБ | D59: 1471725.8 | F59: =SUM(D59:E59) -> 1471725.8 | G59: 1116446.7 | H59: =SUM(F59:G59) -> 2588172.5 | K59: =H59+I59+J59 -> 2588172.5
A60: 50 | B60: 022003 | C60: ГБУЗ РБ Языковская ЦРБ | D60: 1543517.2 | F60: =SUM(D60:E60) -> 1543517.2 | G60: 1173141.3 | H60: =SUM(F60:G60) -> 2716658.5 | K60: =H60+I60+J60 -> 2716658.5
A61: 97 | B61: 021322 | C61: ООО "ОСЦ" | K61: =H61+I61+J61 -> 0
A62: 51 | B62: 029179 | C62: ГАУЗ РБ Санаторий "Дуслык" г.Уфа | K62: =H62+I62+J62 -> 0
A63: 52 | B63: 021110 | C63: ГБУЗ РБ Детская поликлиника №2 г.Уфа | K63: =H63+I63+J63 -> 0
A64: 53 | B64: 021100 | C64: ГБУЗ РБ Детская поликлиника №3 г.Уфа | K64: =H64+I64+J64 -> 0
A65: 54 | B65: 027000 | C65: ГБУЗ РБ Детская поликлиника №4 г.Уфа | K65: =H65+I65+J65 -> 0
A66: 55 | B66: 021120 | C66: ГБУЗ РБ Детская поликлиника №5 г.Уфа | K66: =H66+I66+J66 -> 0
A67: 56 | B67: 021130 | C67: ГБУЗ РБ Детская поликлиника №6 г.Уфа | K67: =H67+I67+J67 -> 0
A68: 57 | B68: 021140 | C68: ГАУЗ РБ Детская стоматологическая поликлиника №3 г.Уфа | K68: =H68+I68+J68 -> 0
A69: 58 | B69: 021150 | C69: ГБУЗ РБ Детская стоматологическая поликлиника №7 г.Уфа | K69: =H69+I69+J69 -> 0
A70: 59 | B70: 029100 | C70: ГБУЗ РБ Поликлиника №43 г.Уфа | K70: =H70+I70+J70 -> 0
A71: 60 | B71: 029300 | C71: ГБУЗ РБ Поликлиника №46 г.Уфа | K71: =H71+I71+J71 -> 0
A72: 61 | B72: 029700 | C72: ГБУЗ РБ Поликлиника №50 г.Уфа | K72: =H72+I72+J72 -> 0
... A89: 78 | B89: 022800 | C89: ФГБОУ ВО БГМУ Минздрава России всего, в том числе: | K89: =H89+I89+J89 -> 0
C90: ФГБОУ ВО БГМУ Минздрава России (без стоматологии, офтальмологии для отдельных структурных подразделений) | K90: =H90+I90+J90 -> 0
C91: ФГБОУ ВО БГМУ Минздрава России (стоматология) | K91: =H91+I91+J91 -> 0
C92: ФГБОУ ВО БГМУ Минздрава России (офтальмология для отдельных структурных подразделений) | K92: =H92+I92+J92 -> 0
A93: 79 | B93: 025000 | C93: ФКУЗ "МСЧ МВД России по Республике Башкортостан" | K93: =H93+I93+J93 -> 0
A94: 80 | B94: 020171 | C94: УФИЦ РАН | K94: =H94+I94+J94 -> 0
A95: 81 | B95: 022117 | C95: ЧУЗ "КБ "РЖД-Медицина"г.Уфа | K95: =H95+I95+J95 -> 0
A96: 82 | B96: 022204 | C96: ГБУЗ РБ Архангельская ЦРБ | D96: 1184559.8 | F96: =SUM(D96:E96) -> 1184559.8 | G96: 900571.28 | H96: =SUM(F96:G96) -> 2085131 | K96: =H96+I96+J96 -> 2085131
A97: 83 | B97: 026005 | C97: ГБУЗ РБ Белокатайская ЦРБ | D97: 1615308.8 | F97: =SUM(D97:E97) -> 1615308.8 | G97: 1225474.7 | H97: =SUM(F97:G97) -> 2840783.5 | K97: =H97+I97+J97 -> 2840783.5
A98: 84 | B98: 022202 | C98: ГБУЗ РБ Благовещенская ЦРБ | D98: 3087034.5 | F98: =SUM(D98:E98) -> 3087034.5 | G98: 2344102 | H98: =SUM(F98:G98) -> 5431136.5 | K98: =H98+I98+J98 -> 5431136.5
A99: 85 | B99: 026002 | C99: ГБУЗ РБ Большеустьикинская ЦРБ | D99: 1615308.8 | F99: =SUM(D99:E99) -> 1615308.8 | G99: 1225474.7 | H99: =SUM(F99:G99) -> 2840783.5 | K99: =H99+I99+J99 -> 2840783.5
A100: 86 | B100: 022201 | C100: ГБУЗ РБ Иглинская ЦРБ | D100: 2931486.2 | F100: =SUM(D100:E100) -> 2931486.2 | G100: 2241615.7 | H100: =SUM(F100:G100) -> 5173101.9 | K100: =H100+I100+J100 -> 5173101.9
A101: 88 | B101: 022205 | C101: ГБУЗ РБ Кармаскалинская ЦРБ | D101: 1974266.2 | F101: =SUM(D101:E101) -> 1974266.2 | G101: 1498044.7 | H101: =SUM(F101:G101) -> 3472311 | K101: =H101+I101+J101 -> 3472311
A102: 89 | B102: 026004 | C102: ГБУЗ РБ Кигинская ЦРБ | D102: 1076872.5 | F102: =SUM(D102:E102) -> 1076872.5 | G102: 817710 | H102: =SUM(F102:G102) -> 1894582.5 | K102: =H102+I102+J102 -> 1894582.5
A103: 90 | B103: 022208 | C103: ГБУЗ РБ Кушнаренковская ЦРБ | D103: 1435830 | F103: =SUM(D103:E103) -> 1435830 | G103: 1090280 | H103: =SUM(F103:G103) -> 2526110 | K103: =H103+I103+J103 -> 2526110
A104: 91 | B104: 026003 | C104: ГБУЗ РБ Малоязовская ЦРБ | D104: 1435830 | F104: =SUM(D104:E104) -> 1435830 | G104: 1090280 | H104: =SUM(F104:G104) -> 2526110 | K104: =H104+I104+J104 -> 2526110
A105: 92 | B105: 026001 | C105: ГБУЗ РБ Месягутовская ЦРБ | D105: 1794787.5 | F105: =SUM(D105:E105) -> 1794787.5 | G105: 1362850 | H105: =SUM(F105:G105) -> 3157637.5 | K105: =H105+I105+J105 -> 3157637.5
A106: 93 | B106: 022203 | C106: ГБУЗ РБ Нуримановская ЦРБ | D106: 1364038.5 | F106: =SUM(D106:E106) -> 1364038.5 | G106: 1035766 | H106: =SUM(F106:G106) -> 2399804.5 | K106: =H106+I106+J106 -> 2399804.5
A107: 94 | B107: 022000 | C107: ГБУЗ РБ Чишминская ЦРБ | D107: 3230617.5 | F107: =SUM(D107:E107) -> 3230617.5 | G107: 2453130 | H107: =SUM(F107:G107) -> 5683747.5 | K107: =H107+I107+J107 -> 5683747.5
A108: 96 | B108: 020251 | C108: ООО "МЦ "Агидель" | K108: =H108+I108+J108 -> 0
A109: 98 | B109: 020169 | C109: ООО "АНЭКО" | K109: =H109+I109+J109 -> 0
A110: 99 | B110: 020235 | C110: ООО "Евромед-Уфа" | K110: =H110+I110+J110 -> 0
A111: 100 | B111: 020232 | C111: ООО "Клиника глазных болезней" | K111: =H111+I111+J111 -> 0
A112: 101 | B112: 020241 | C112: ООО "Клиника современной флебологии" | K112: =H112+I112+J112 -> 0
A113: 102 | B113: 020181 | C113: ООО "Клиника Эксперт Уфа" | K113: =H113+I113+J113 -> 0
A114: 103 | B114: 029140 | C114: ООО "Лаборатория гемодиализа" | K114: =H114+I114+J114 -> 0
A115: 104 | B115: 029150 | C115: ООО "ЛДЦ МИБС-Уфа" | K115: =H115+I115+J115 -> 0
A116: 105 | B116: 020188 | C116: ООО"МД Проект 2010" | K116: =H116+I116+J116 -> 0
A117: 106 | B117: 020157 | C117: ООО "Медицинский центр Семья" | K117: =H117+I117+J117 -> 0
...

Sheet Лекарст.обеспечение
A1: Плановые объемы финансового обеспечения комплекса процессных мероприятий "Реализация комплекса мер по обеспечению отдельных категорий граждан лекарственными препаратами" на 2026 год.
A3: № п/п | B3: Реестровый номер | C3: Наименование медицинской организации | D3: В амбулаторных условиях
A6: ВСЕГО | D6: =D8+D7 -> 106271118
A7: Медицинская помощь за пределами РБ
A8: Итого по МО | D8: =SUM(D9:D146) -> 106271118
A9: 1 | B9: 025004 | C9: ГБУЗ РБ Аскинская ЦРБ
A10: 2 | B10: 022103 | C10: ГБУЗ РБ Балтачевская ЦРБ
A11: 3 | B11: 025001 | C11: ГБУЗ РБ Бирская ЦРБ
A12: 4 | B12: 025005 | C12: ГБУЗ РБ Бураевская ЦРБ
A13: 5 | B13: 022102 | C13: ГБУЗ РБ Верхне-Татышлинская ЦРБ
A14: 6 | B14: 021201 | C14: ГБУЗ РБ ГБ г.Нефтекамск
A15: 7 | B15: 027001 | C15: ГБУЗ РБ Дюртюлинская ЦРБ
A16: 8 | B16: 021206 | C16: ГБУЗ РБ Калтасинская ЦРБ
A17: 9 | B17: 025003 | C17: ГБУЗ РБ Караидельская ЦРБ
A18: 10 | B18: 021205 | C18: ГБУЗ РБ Краснокамская ЦРБ
A19: 11 | B19: 025002 | C19: ГБУЗ РБ Мишкинская ЦРБ
A20: 12 | B20: 022104 | C20: ГБУЗ РБ Янаульская ЦРБ
... A89: 81 | B89: 022800 | C89: ФГБОУ ВО БГМУ Минздрава России всего, в том числе:
C90: ФГБОУ ВО БГМУ Минздрава России (без стоматологии, офтальмологии для отдельных структурных подразделений)
C91: ФГБОУ ВО БГМУ Минздрава России (стоматология)
C92: ФГБОУ ВО БГМУ Минздрава России (офтальмология для отдельных структурных подразделений)
A93: 82 | B93: 025000 | C93: ФКУЗ "МСЧ МВД России по Республике Башкортостан"
A94: 83 | B94: 020171 | C94: УФИЦ РАН
A95: 84 | B95: 022117 | C95: ЧУЗ "КБ "РЖД-Медицина"г.Уфа
A96: 85 | B96: 022204 | C96: ГБУЗ РБ Архангельская ЦРБ
A97: 86 | B97: 026005 | C97: ГБУЗ РБ Белокатайская ЦРБ
A98: 87 | B98: 022202 | C98: ГБУЗ РБ Благовещенская ЦРБ
A99: 88 | B99: 026002 | C99: ГБУЗ РБ Большеустьикинская ЦРБ
A100: 89 | B100: 022201 | C100: ГБУЗ РБ Иглинская ЦРБ
A101: 90 | B101: 022205 | C101: ГБУЗ РБ Кармаскалинская ЦРБ
A102: 91 | B102: 026004 | C102: ГБУЗ РБ Кигинская ЦРБ
A103: 92 | B103: 022208 | C103: ГБУЗ РБ Кушнаренковская ЦРБ
A104: 93 | B104: 026003 | C104: ГБУЗ РБ Малоязовская ЦРБ
... A107: 96 | B107: 022000 | C107: ГБУЗ РБ Чишминская ЦРБ
A108: 97 | B108: 020251 | C108: ООО "МЦ "Агидель" | D108: 16120968
A109: 98 | B109: 020169 | C109: ООО "АНЭКО"
A110: 99 | B110: 020235 | C110: ООО "Евромед-Уфа"
A111: 100 | B111: 020232 | C111: ООО "Клиника глазных болезней"
A112: 101 | B112: 020241 | C112: ООО "Клиника современной флебологии"
A113: 102 | B113: 020181 | C113: ООО "Клиника Эксперт Уфа"
A114: 103 | B114: 029140 | C114: ООО "Лаборатория гемодиализа" | D114: 69998940
A115: 104 | B115: 029150 | C115: ООО "ЛДЦ МИБС-Уфа"
A116: 105 | B116: 020188 | C116: ООО"МД Проект 2010"
A117: 106 | B117: 020157 | C117: ООО "Медицинский центр Семья"
A118: 107 | B118: 020265 | C118: ООО "ММЦ Медикал Он Груп-Уфа"
A119: 108 | B119: 020199 | C119: ООО "Медси-Уфа"
A120: 109 | B120: 020172 | C120: ООО "МЦ МЕГИ"
A121: 110 | B121: 020066 | C121: АО "Санаторий "Зеленая роща"
A122: 111 | B122: 020233 | C122: ООО санаторий "Юматово"
A123: 112 | B123: 020170 | C123: ООО "Клиника Фомина Уфа"
A124: 113 | B124: 020161 | C124: ООО "Экома" | D124: 19019914
A125: 114 | B125: 020248 | C125: ООО "Клиника эстетической медицины "Юхелф"
A126: 115 | B126: 022120 | C126: ГБУЗ РКБ им. Г.Г.Куватова | D126: 212118
A127: 116 | B127: 022100 | C127: ГАУЗ РКОД Минздрава РБ
A128: 117 | B128: 022130 | C128: ГБУЗ РКЦ
A129: 118 | B129: 022113 | C129: ГБУЗ РДКБ | D129: 919178
A130: 119 | B130: 022112 | C130: ГБУЗ РКВД
A131: 120 | B131: 026000 | C131: ГБУЗ РКПЦ МЗ РБ
A132: 121 | B132: 022132 | C132: ГБУЗ РМГЦ
A133: 122 | B133: 022124 | C133: ГБУЗ РВФД
A134: 123 | B134: 022220 | C134: ГБУЗ РКГВВ
A135: 124 | B135: 022400 | C135: ГБУЗ РБ КБСМП г.Уфа
A136: 125 | B136: 022720 | C136: ГБУЗ РБ ГКБ №21 г.Уфа
A137: 126 | B137: 022710 | C137: ГБУЗ РКИБ
A138: 127 | B138: 022121 | C138: АУЗ РСП
A139: 128 | B139: 022134 | C139: ООО "Центр ПЭТ-Технолоджи"
A140: 129 | B140: 020005 | C140: ГБУЗ РКНД Минздрава РБ
A141: 130 | B141: 020006 | C141: ГБУЗ РКПЦ Минздрава РБ
... A146: 135 | B146: 020058 | C146: ООО "ДОКТОР ВЕН"
